BEGIN:VCALENDAR
VERSION:2.0
PRODID:-//New York City&#039;s Brightest - ECPv6.15.18//NONSGML v1.0//EN
CALSCALE:GREGORIAN
METHOD:PUBLISH
X-WR-CALNAME:New York City&#039;s Brightest
X-ORIGINAL-URL:https://nycbrightest.com
X-WR-CALDESC:Events for New York City&#039;s Brightest
REFRESH-INTERVAL;VALUE=DURATION:PT1H
X-Robots-Tag:noindex
X-PUBLISHED-TTL:PT1H
BEGIN:VTIMEZONE
TZID:America/New_York
BEGIN:DAYLIGHT
TZOFFSETFROM:-0500
TZOFFSETTO:-0400
TZNAME:EDT
DTSTART:20250309T070000
END:DAYLIGHT
BEGIN:STANDARD
TZOFFSETFROM:-0400
TZOFFSETTO:-0500
TZNAME:EST
DTSTART:20251102T060000
END:STANDARD
BEGIN:DAYLIGHT
TZOFFSETFROM:-0500
TZOFFSETTO:-0400
TZNAME:EDT
DTSTART:20260308T070000
END:DAYLIGHT
BEGIN:STANDARD
TZOFFSETFROM:-0400
TZOFFSETTO:-0500
TZNAME:EST
DTSTART:20261101T060000
END:STANDARD
BEGIN:DAYLIGHT
TZOFFSETFROM:-0500
TZOFFSETTO:-0400
TZNAME:EDT
DTSTART:20270314T070000
END:DAYLIGHT
BEGIN:STANDARD
TZOFFSETFROM:-0400
TZOFFSETTO:-0500
TZNAME:EST
DTSTART:20271107T060000
END:STANDARD
END:VTIMEZONE
BEGIN:VEVENT
DTSTART;TZID=America/New_York:20260130T183000
DTEND;TZID=America/New_York:20260130T200000
DTSTAMP:20260423T201554
CREATED:20260116T111858Z
LAST-MODIFIED:20260116T114303Z
UID:10003506-1769797800-1769803200@nycbrightest.com
SUMMARY:"EASY DATES FOR BUSY LIVES" 30'S & 40'S SPEED DATING!
DESCRIPTION:Join in on an amazing speed dating event @ the Hilton\, which stands out among NY hotels with its stylish decor and proximity to times square! The ages of this speed dating event will be for singles in their 30′ s & 40’S as you must be in this age range to participate! Ladies will receive a complimentary cocktail/beverage of choice before 7:00 pm. The speed dating will occur inside the chic yet very comfortable lounge & restaurant as the general public will not be allowed in. Here is how it works\, ladies will sit\, and men will rotate! Everyone will have personal one on one conversations to better determine if this person is suited as a potential romantic partner! You will receive a complimentary after party as well within the same venue! Your matches will be delivered the next day before 12 noon guaranteed via by email\, phone number or both! The amount of early bird priced tickets in not indicative of the event capacity. Prices can change at any time without notice. This private ticketed event is sponsored by NYC BRIGHTEST & THE HILTON!  \nWHAT TO EXPECT: \nA great speed dating event in one of N.Y.C.’S best kept secret venues!\nLadies will receive a complimentary cocktail(alcoholic/non) before 7:00 pm!\nDress code: Ladies dress to impress\, Men: smart/business casual. Nice shoes\, clean pants\, shirt\, as no tee shirts or caps.\nFood will be available for purchase!\nAn unbeatable price point for a top tier speed dating!\nAs the Hilton is waiving their large group reservation fee a 1 item minimum spend is required at the venue for ladies\, and a 2-item purchase spend is required for gentleman!\nIf you are an essential worker\, please enter the promo code “thehilton” for $2 off admission at check out! \nABOUT NYC BRIGHTEST: we implement a variety of high-quality diverse events such as unique themed wine and spirit tastings\, networking\, singles\, socials and speed dating in cool and chic venues! To view upcoming events\, please navigate to http://nycbrightest.com\,NYCBrightest on Eventbrite and nyc_brightest on Instagram.
URL:https://nycbrightest.com/event/easy-dates-for-busy-lives-30s-40s-speed-dating/
LOCATION:THE HILTON\, 326 WEST 37TH STREET\, NEW YORK\, NY\, 10018\, United States
ATTACH;FMTTYPE=image/jpeg:https://nycbrightest.com/wp-content/uploads/2026/01/0a7cc98b3d113cec61002915ccbd61a9-WgmQNq.tmp_.jpg
END:VEVENT
BEGIN:VEVENT
DTSTART;TZID=America/New_York:20260130T183000
DTEND;TZID=America/New_York:20260130T220000
DTSTAMP:20260423T201555
CREATED:20260114T185059Z
LAST-MODIFIED:20260114T190537Z
UID:10003499-1769797800-1769810400@nycbrightest.com
SUMMARY:"FIND YOUR SOMEONE WHO"....PRE-VALENTINE'S SINGLES/SOCIAL@THE HILTON!
DESCRIPTION:All Ladies will receive a complimentary cocktail of choice(alcoholic/non) before 7:30 pm arrival time! The first 5 ladies please enter the promo code”findyour” for $5 off admission at check out. Find your someone who on a Friday afterwork just 2 short weeks before Valentine’s in one of N.Y.C’s most stylish hotel lounges/restaurants.  \nHere is how it will work: Upon entry you will screen shot to scan 25 different categories of interests Each listed experience/interest is interesting and informative! Carefully look over the categories/experiences and choose which ones resonate with you! While engaging in conversations with others\, you may find someone who possesses these commonalities and shared experiences that you would prefer in a potential partner! An example of these categories is to find someone who speaks more than 1 language\, who loves to travel\, fancies a particular cuisine and so on and so forth! From there\, it will be easier to make that special connection/s and take a deeper dive into becoming acquainted! This private ticketed event is sponsored by NYC BRIGHTEST & THE HILTON. The number of early bird tickets released is not indicative of the event capacity and prices will rise significantly! \nWhat to expect:\nLadies will receive a complimentary cocktail(non/zero proof/alcoholic) before 7:30 pm in a venue with chic & elegant ambiance!!\nExperience an innovative and fun method in meeting new people with commonality experiences and preference!\nAs The Hilton is waiving their large group reservation fee\, and providing complimentary cocktails\, 1 item min purchase is required for ladies\, and a 2-item min purchase is required for men at the venue.\nFood is available for purchase!\nGeneral suggested age range is 20’s to 40’s.\nOptional personal introductions by your host!\nLadies dress to impress. Men: a clean shirt\, nice shoes\, pants required as business casual/smart casual will be the requirement. No tee shirts\, sweat hoods\, sneakers\, hats will be allowed.\nIf you are an essential worker\, please enter the promo code” findyoursomeone” for $2 off admission! \nABOUT NYC BRIGHTEST: we implement a variety of high-quality diverse events such as unique themed wine and spirit tastings\, networking\, singles\, socials and speed dating in cool and chic venues! To view upcoming events\, please navigate to http://nycbrightest.com\,NYCBrightest on Eventbrite and nyc_brightest on Instagram.
URL:https://nycbrightest.com/event/find-your-someone-who-pre-valentines-singles-socialthe-hilton/
LOCATION:THE HILTON\, 326 WEST 37TH STREET\, NEW YORK\, NY\, 10018\, United States
ATTACH;FMTTYPE=image/jpeg:https://nycbrightest.com/wp-content/uploads/2026/01/d0eb29f0b37a680fc9bff5d4290e0dec-yohoRG.tmp_.jpg
END:VEVENT
END:VCALENDAR