BEGIN:VCALENDAR
VERSION:2.0
PRODID:-//New York City&#039;s Brightest - ECPv6.15.18//NONSGML v1.0//EN
CALSCALE:GREGORIAN
METHOD:PUBLISH
X-WR-CALNAME:New York City&#039;s Brightest
X-ORIGINAL-URL:https://nycbrightest.com
X-WR-CALDESC:Events for New York City&#039;s Brightest
REFRESH-INTERVAL;VALUE=DURATION:PT1H
X-Robots-Tag:noindex
X-PUBLISHED-TTL:PT1H
BEGIN:VTIMEZONE
TZID:America/New_York
BEGIN:DAYLIGHT
TZOFFSETFROM:-0500
TZOFFSETTO:-0400
TZNAME:EDT
DTSTART:20250309T070000
END:DAYLIGHT
BEGIN:STANDARD
TZOFFSETFROM:-0400
TZOFFSETTO:-0500
TZNAME:EST
DTSTART:20251102T060000
END:STANDARD
BEGIN:DAYLIGHT
TZOFFSETFROM:-0500
TZOFFSETTO:-0400
TZNAME:EDT
DTSTART:20260308T070000
END:DAYLIGHT
BEGIN:STANDARD
TZOFFSETFROM:-0400
TZOFFSETTO:-0500
TZNAME:EST
DTSTART:20261101T060000
END:STANDARD
BEGIN:DAYLIGHT
TZOFFSETFROM:-0500
TZOFFSETTO:-0400
TZNAME:EDT
DTSTART:20270314T070000
END:DAYLIGHT
BEGIN:STANDARD
TZOFFSETFROM:-0400
TZOFFSETTO:-0500
TZNAME:EST
DTSTART:20271107T060000
END:STANDARD
END:VTIMEZONE
BEGIN:VEVENT
DTSTART;TZID=America/New_York:20260212T190000
DTEND;TZID=America/New_York:20260212T230000
DTSTAMP:20260423T183734
CREATED:20260127T044801Z
LAST-MODIFIED:20260127T045538Z
UID:10003531-1770922800-1770937200@nycbrightest.com
SUMMARY:NYC BRIGHTEST PRESENTS NEW YORK FASHION WEEK TRENDSETTERS' COLLECTIVE!
DESCRIPTION:What does the event offer?\nAs the mid-winter chill settles over the city and the high-octane energy of New York Fashion Week reaches its crescendo\, you are cordially invited to an elegant\, high-energy\, curated gathering bringing together a mix of top-tier influencers\, fashion designers\, stylists\, models\, editors\, and fashionistas to celebrate the new season. Come join us to celebrate Fashion Week in one of the most beautiful lounges in NYC with wine and conversation. Perched six stories above the city\, the lounge offers a rare vantage point of One World Trade Center\, allowing for plenty of photo opportunities and providing a sophisticated backdrop for the season’s most vital conversations. Come and join us for a night to remember\, an exclusive night of mingling\, music\, epic fashion moments\, and sommelier selected wines to enjoy\, with a prize for the best dressed toward the end of the evening. \nLADIES BOGO COCKTAIL BEFORE 8 PM! \n​Dress Code:\nChic\, Fashion Forward (recommended). \n​Elevated streetwear is welcome. No athletic wear no slides no sloppy sweats. \n​When:\nFeb 12th\, 2026\, 7:00 pm – 11:00 pm. \n​Experience:\nAn evening designed for the discerning\, allowing for a relaxing\, elegant\, and beautiful ambience to decompress after the day’s final runway show\, while providing an opportunity to step into the season’s most strategic networking environment. Mingle with a curated mix of designers\, editors\, stylists\, and the architects of the 2026 fashion landscape. Come dressed your best plenty of photo opportunities\, and a prize for the best dressed toward the end of the evening. \n​Access & Admittance:\nTo maintain an intimate atmosphere and allow for sophisticated connections\, capacity is strictly monitored. \n​Industry Professionals: A limited number of complimentary Industry Invitations are reserved for verified members of the press\, established designers\, influencers\, models and accredited stylists. Please select the “Industry Guest List” option for verification. \n​General Admission: A limited release of General Admission Tickets is available for those wishing to immerse themselves in the NYFW social circuit. Tickets include venue access\, photo opportunities\, and an evening of grand time. Cash Bar. \n​VIP Admission: A grand experience\, guaranteed priority entry\, access to the VIP area\, complimentary wine\, and a curated ultra-premium bottle of wine gift. \n\nABOUT NYC BRIGHTEST: we implement a variety of curated events such as unique themed wine and spirit tastings\, networking\, singles\, socials and speed dating in cool and chic venues! To view upcoming events\, please navigate below \nhttp://nycbrightest.com\, \nNYC BRIGHTEST SINGLES/SOCIAL CONNECTIONS \nUNIQUE SPEED DATING EVENTS! \nWine And Spirit Tastings by NYC Brightest! and follow NYC_Brightest on Instagram! \n\n  \n​ \n​
URL:https://nycbrightest.com/event/nyc-brightest-presents-new-york-fashion-week-trendsetters-collective/
LOCATION:The Cloud One Lounge New York-Downtown\, 133 Greenwich Street\, New York\, NY\, 10006\, United States
ATTACH;FMTTYPE=image/avif:https://nycbrightest.com/wp-content/uploads/2026/01/gettyimages-2233910288.avif
END:VEVENT
END:VCALENDAR