BEGIN:VCALENDAR
VERSION:2.0
PRODID:-//New York City&#039;s Brightest - ECPv6.15.18//NONSGML v1.0//EN
CALSCALE:GREGORIAN
METHOD:PUBLISH
X-WR-CALNAME:New York City&#039;s Brightest
X-ORIGINAL-URL:https://nycbrightest.com
X-WR-CALDESC:Events for New York City&#039;s Brightest
REFRESH-INTERVAL;VALUE=DURATION:PT1H
X-Robots-Tag:noindex
X-PUBLISHED-TTL:PT1H
BEGIN:VTIMEZONE
TZID:America/New_York
BEGIN:DAYLIGHT
TZOFFSETFROM:-0500
TZOFFSETTO:-0400
TZNAME:EDT
DTSTART:20250309T070000
END:DAYLIGHT
BEGIN:STANDARD
TZOFFSETFROM:-0400
TZOFFSETTO:-0500
TZNAME:EST
DTSTART:20251102T060000
END:STANDARD
BEGIN:DAYLIGHT
TZOFFSETFROM:-0500
TZOFFSETTO:-0400
TZNAME:EDT
DTSTART:20260308T070000
END:DAYLIGHT
BEGIN:STANDARD
TZOFFSETFROM:-0400
TZOFFSETTO:-0500
TZNAME:EST
DTSTART:20261101T060000
END:STANDARD
BEGIN:DAYLIGHT
TZOFFSETFROM:-0500
TZOFFSETTO:-0400
TZNAME:EDT
DTSTART:20270314T070000
END:DAYLIGHT
BEGIN:STANDARD
TZOFFSETFROM:-0400
TZOFFSETTO:-0500
TZNAME:EST
DTSTART:20271107T060000
END:STANDARD
END:VTIMEZONE
BEGIN:VEVENT
DTSTART;TZID=America/New_York:20260213T183000
DTEND;TZID=America/New_York:20260213T200000
DTSTAMP:20260423T183601
CREATED:20260123T114033Z
LAST-MODIFIED:20260123T114033Z
UID:10003511-1771007400-1771012800@nycbrightest.com
SUMMARY:"CUPIDS ARROW"  SPEED DATING FOR SINGLES AGES 22-36!
DESCRIPTION:Join us and make that special connection just in time for Valentine’s Day and beyond!\n\n\nJoin us and make that special connection in a fun and fast paced speed dating event! Ladies will will receive a comp drink before 7 pm and there will be a complimentary singles after party! Your match results will be delivered the next morning guaranteed by 11 am via email and or text! \nHere is how it will work:in our own private vip room within Latitude 39\, ladies will sit and men will rotate. Everyone will have personalized 1 on 1 5 minute conversation in order to determine if this person is aligned as a match! There will be a happy hour of $6 dollar beer\,$8 dollar wines and $10 dollar cocktails until 7 pm. As Latitude 39\, is waiving their large rental fee a 1 item spend for ladies and a 2 item spend for men is required for men at the venue. This private ticketed event is sponsored by NYC BRIGHTEST & LATITUDE 39! \nABOUT NYC BRIGHTEST: we implement a variety of high-quality diverse events such as unique themed wine and spirit tastings\, networking\, singles\, socials and speed dating in cool and chic venues! To view upcoming events\, please navigate to http://nycbrightest.com\, and below.NYC BRIGHTEST SINGLES/SOCIAL CONNECTIONSUNIQUE SPEED DATING EVENTS!Wine And Spirit Tastings by NYC Brightest!and follow NYC_Brightest on Instagram!
URL:https://nycbrightest.com/event/cupids-arrow-speed-dating-for-singles-ages-22-36/
LOCATION:LATITUDE 39\, 306 West 39th street\, Manhattan\, NY\, 10018\, United States
ATTACH;FMTTYPE=image/jpeg:https://nycbrightest.com/wp-content/uploads/2026/01/6dcee90b92f6c749abe099e7855f58e1-VGzd24.tmp_.jpg
END:VEVENT
BEGIN:VEVENT
DTSTART;TZID=America/New_York:20260213T183000
DTEND;TZID=America/New_York:20260213T200000
DTSTAMP:20260423T183601
CREATED:20260128T193710Z
LAST-MODIFIED:20260209T065505Z
UID:10003532-1771007400-1771012800@nycbrightest.com
SUMMARY:"MEET YOUR MATCH" SPEED DATING FOR SINGLES AGES 31-46!
DESCRIPTION:Come on out and meet other singles in a nice chic Italian themed restaurant after a long week ! Ladies will sit and men will rotate and have 1 on 1 5-minute conversations to gauge the chemistry and mental stimulation! You will receive your match results the next day! \nAll ladies will receive a complimentary drink of choice before 7 pm and everyone will receive complimentary light appetizers while supplies last served at 6:30 pm as early arrival is suggested. There will be special Happy Hour pricing of $6 beers\, $8 dollar premium wines\, and $10 top shelf cocktails until 7 pm. As Latitude 39 is waiving their large rental fee\, providing complimentary appetizers and a comp drink for ladies\, there will be a required 1 item minimum spend for ladies and 2 item minimum spend for men in food or drink required t the venue. You will receive these items at happy hour pricing before 7 pm. \nThe ages of the participants will be in 31-46 You must be in this age range to participate! There will be fun & thoughtful icebreakers to stimulate engaging conversation! If you are an essential worker\, please enter the promo code “meetyourmatch”for $2 off admission! \nThis is an NYC BRIGHTEST partner event which is well organized and in a great venue. Please note that this is private ticketed event only! \nABOUT NYC BRIGHTEST: we implement a variety of high-quality diverse events such as unique themed wine and spirit tastings\, networking\, singles\, socials and speed dating in cool and chic venues! To view upcoming events\, please navigate to [http://nycbrightest.com]()\,NYCBrightest on Eventbrite and nyc_brightest on Instagram.
URL:https://nycbrightest.com/event/n-y-c-meet-your-match-40s-50s-speed-dating/
LOCATION:LATITUDE 39\, 306 West 39th street\, Manhattan\, NY\, 10018\, United States
ATTACH;FMTTYPE=image/jpeg:https://nycbrightest.com/wp-content/uploads/2026/01/92c39c54991d640128236651456ce7ee-8CmX3u.tmp_.jpg
END:VEVENT
BEGIN:VEVENT
DTSTART;TZID=America/New_York:20260213T183000
DTEND;TZID=America/New_York:20260213T220000
DTSTAMP:20260423T183601
CREATED:20260123T114031Z
LAST-MODIFIED:20260123T114031Z
UID:10003510-1771007400-1771020000@nycbrightest.com
SUMMARY:"LOVE IS IN THE AIR" EXCLUSIVE VALENTINE'S SINGLES/SOCIAL!
DESCRIPTION:Join us and find that special someone!\n\n\nTis the season that love is in the air! Join us at the newly minted “Latitude 39” and enjoy an evening of new connections\, conversations and hopefully that special someone. All ladies will receive a complementary beverage of choice(alcoholic/non) before 7:30 pm and everyone will receive complimentary limited appetizers served at 7 pm. There will be a happy hour of $6 beers\, $8 dollar wines and $10 cocktails until 7 pm.  The theme of the evening will be “LOVE LANGUAGE”! As Latitude 39 is waiving their large $ rental fee for 2 rooms\, there will be a 1 item minimum spend for ladies and a 2 item spend for men at the venue! Early bird tickets are limited and will rise without notice and will be $30-40 at the door! If you are an essential worker\, please enter “loveintheair” for $2 off at check out! This private ticketed event is sponsored by NYC BRIGHTEST & LATITUDE 39! \nABOUT NYC BRIGHTEST: we implement curated events such as unique themed wine and spirit tastings\, networking\, singles\, socials and speed dating in cool and chic venues! To view upcoming events\, please navigate below \nhttp://nycbrightest.com\, \nNYC BRIGHTEST SINGLES/SOCIAL CONNECTIONS\nUNIQUE SPEED DATING EVENTS!\nWine And Spirit Tastings by NYC Brightest!\nand follow NYC_Brightest on Instagram! \n  \n  \n 
URL:https://nycbrightest.com/event/love-is-in-the-air-exclusive-valentines-singles-social/
LOCATION:LATITUDE 39\, 306 West 39th street\, Manhattan\, NY\, 10018\, United States
ATTACH;FMTTYPE=image/jpeg:https://nycbrightest.com/wp-content/uploads/2026/01/095d89674a548060ffd372b496e14cdc-wpGt6O.tmp_.jpg
END:VEVENT
END:VCALENDAR