BEGIN:VCALENDAR
VERSION:2.0
PRODID:-//New York City&#039;s Brightest - ECPv6.15.18//NONSGML v1.0//EN
CALSCALE:GREGORIAN
METHOD:PUBLISH
X-WR-CALNAME:New York City&#039;s Brightest
X-ORIGINAL-URL:https://nycbrightest.com
X-WR-CALDESC:Events for New York City&#039;s Brightest
REFRESH-INTERVAL;VALUE=DURATION:PT1H
X-Robots-Tag:noindex
X-PUBLISHED-TTL:PT1H
BEGIN:VTIMEZONE
TZID:America/New_York
BEGIN:DAYLIGHT
TZOFFSETFROM:-0500
TZOFFSETTO:-0400
TZNAME:EDT
DTSTART:20250309T070000
END:DAYLIGHT
BEGIN:STANDARD
TZOFFSETFROM:-0400
TZOFFSETTO:-0500
TZNAME:EST
DTSTART:20251102T060000
END:STANDARD
BEGIN:DAYLIGHT
TZOFFSETFROM:-0500
TZOFFSETTO:-0400
TZNAME:EDT
DTSTART:20260308T070000
END:DAYLIGHT
BEGIN:STANDARD
TZOFFSETFROM:-0400
TZOFFSETTO:-0500
TZNAME:EST
DTSTART:20261101T060000
END:STANDARD
BEGIN:DAYLIGHT
TZOFFSETFROM:-0500
TZOFFSETTO:-0400
TZNAME:EDT
DTSTART:20270314T070000
END:DAYLIGHT
BEGIN:STANDARD
TZOFFSETFROM:-0400
TZOFFSETTO:-0500
TZNAME:EST
DTSTART:20271107T060000
END:STANDARD
END:VTIMEZONE
BEGIN:VEVENT
DTSTART;TZID=America/New_York:20260219T183000
DTEND;TZID=America/New_York:20260219T213000
DTSTAMP:20260423T183559
CREATED:20260208T234713Z
LAST-MODIFIED:20260218T014459Z
UID:10003541-1771525800-1771536600@nycbrightest.com
SUMMARY:"FIND YOUR SOME WHO"... SINGLES & SOCIAL CONNECT@ CLOUD ONE!
DESCRIPTION:TO PURCHASE YOUR LIMITED EARLY BIRD PRICED TICKETS\, PLEASE CLICK ON THE BLUE LINK BELOW. THANK YOU! \nhttps://findyoursomeonewhonexclusivenycbrightest.eventbrite.com \n  \nAll Ladies will receive a complimentary cocktail of choice(alcoholic/non) before 7:30 pm arrival time! Find your someone who in one of N.Y.C’s most stylish hotel penthouse lounges with a live DJ! \nHere is how it will work: Upon entry you will screen shot to scan 25 different categories of interests Each listed experience/interest is interesting and informative! Carefully look over the categories/experiences and choose which ones resonate with you! While engaging in conversations with others\, you may find someone who possesses these commonalities and shared experiences that you would prefer in a potential partner! An example of these categories is to find someone who speaks more than 1 language\, who loves to travel\, fancies a particular cuisine and so on and so forth! From there\, it will be easier to make that special connection/s and take a deeper dive into becoming acquainted! This private ticketed event is sponsored by NYC BRIGHTEST & THE CLOUD ONE. The number of early bird tickets released is not indicative of the event capacity and prices will rise significantly! \nTO PURCHASE YOUR EARLY BIRD PRICED TICKETS\, PLEASE CLICK ON THE LINK BELOW. THANK YOU! \nhttps://findyoursomeonewhonexclusivenycbrightest.eventbrite.com \nWhat to expect: \n\nLadies will receive a signature CLOUD ONE signature champagne cocktail(non/zero proof/alcoholic) before 7:30 pm in a private penthouse with chic & elegant ambiance!!\nExperience an innovative and fun method in meeting new people with commonality experiences and preference!\nAs CLOUD ONE is waiving their large group reservation fee\, and providing complimentary cocktails\, 1 item min purchase is required for ladies\, and a 2-item min purchase is required for men at the venue. Food is available for purchase!\nGeneral suggested age range is 20’s to 40’s. Optional personal introductions by your host! Ladies dress to impress. Men: a clean shirt\, nice shoes\, pants required as business casual/smart casual will be the requirement. No tee shirts\, sweat hoods\, sneakers\, hats will be allowed.\nA live DJ for the duration of the event!\nA price point that is unbeatable for an event of this caliber.\n\nTO PURCHASE YOUR EARLY BIRD PRICED TICKETS\, PLEASE CLICK ON THE LINK BELOW. THANK YOU! \nhttps://findyoursomeonewhonexclusivenycbrightest.eventbrite.com \n  \nAbout NYC BRIGHTEST: we implement curated events such as wine/spirit tastings\, speed dating’s\, game nights\, singles/socials and networking in cool and chic venues\, please navigate below to.. \nhttp://nycbrightest.com\, \nNYC BRIGHTEST SINGLES/SOCIAL CONNECTIONS!\nUNIQUE SPEED DATING EVENTS!\nWine And Spirit Tastings by NYC Brightest!\nand follow NYC_Brightest on Instagram!
URL:https://nycbrightest.com/event/find-your-someone-who-exclusive-singles-social-cloud-one/
LOCATION:The Cloud One Lounge New York-Downtown\, 133 Greenwich Street\, New York\, NY\, 10006\, United States
ATTACH;FMTTYPE=image/jpeg:https://nycbrightest.com/wp-content/uploads/2025/11/6faaded9457607f2781c72371e54dcf5-W4Gsbd.tmp_.jpg
END:VEVENT
END:VCALENDAR