BEGIN:VCALENDAR
VERSION:2.0
PRODID:-//New York City&#039;s Brightest - ECPv6.15.18//NONSGML v1.0//EN
CALSCALE:GREGORIAN
METHOD:PUBLISH
X-WR-CALNAME:New York City&#039;s Brightest
X-ORIGINAL-URL:https://nycbrightest.com
X-WR-CALDESC:Events for New York City&#039;s Brightest
REFRESH-INTERVAL;VALUE=DURATION:PT1H
X-Robots-Tag:noindex
X-PUBLISHED-TTL:PT1H
BEGIN:VTIMEZONE
TZID:America/New_York
BEGIN:DAYLIGHT
TZOFFSETFROM:-0500
TZOFFSETTO:-0400
TZNAME:EDT
DTSTART:20250309T070000
END:DAYLIGHT
BEGIN:STANDARD
TZOFFSETFROM:-0400
TZOFFSETTO:-0500
TZNAME:EST
DTSTART:20251102T060000
END:STANDARD
BEGIN:DAYLIGHT
TZOFFSETFROM:-0500
TZOFFSETTO:-0400
TZNAME:EDT
DTSTART:20260308T070000
END:DAYLIGHT
BEGIN:STANDARD
TZOFFSETFROM:-0400
TZOFFSETTO:-0500
TZNAME:EST
DTSTART:20261101T060000
END:STANDARD
BEGIN:DAYLIGHT
TZOFFSETFROM:-0500
TZOFFSETTO:-0400
TZNAME:EDT
DTSTART:20270314T070000
END:DAYLIGHT
BEGIN:STANDARD
TZOFFSETFROM:-0400
TZOFFSETTO:-0500
TZNAME:EST
DTSTART:20271107T060000
END:STANDARD
END:VTIMEZONE
BEGIN:VEVENT
DTSTART;TZID=America/New_York:20260227T183000
DTEND;TZID=America/New_York:20260227T220000
DTSTAMP:20260423T215230
CREATED:20260209T050631Z
LAST-MODIFIED:20260220T122354Z
UID:10003543-1772217000-1772229600@nycbrightest.com
SUMMARY:AN EXCLUSIVE 30'S & OVER PENTHOUSE SINGLES/SOCIAL!
DESCRIPTION:This experience is for singles and socialites ages 30 and over! Join us and make new connections in amazing ambiance\, and complimentary signature cocktails in the one of the best hidden hotel lounges/penthouses in all of N.Y.C. The venue\, views\, customer service\, wines and cocktails are simply superlative for a price point that is unmatched in N.Y.C.!! In addition\, all ladies will receive a complimentary signature one cloud cocktail/alcoholic or non before 7:30 pm arrival. Dress to impress! This curated experience is sponsored by NYC BRIGHTEST & CLOUD ONE WINE BAR/LOUNGE & PENTHOUSE! The amount of early bird tickets is not indicative of the event capacity and prices will rise significantly without notice! Tickets will be $25 or higher at the door! \nWHAT TO EXPECT: \n\nMaking new connections with up to 60 singles and socialites in an amazing venue!\nLadies  will receive a complimentary signature cloud one cocktail before 7:30 pm.\nDress code: ladies dress to impress. Men: this is a very classy venue. Dress code: nice shoes\, clean shirt\, pants expected.\nAn entry price point that is unbeatable for an event of this caliber.\nAs Cloud One is waiving their large rental fee and providing complimentary cocktails\, a 1 item minimum spend is require for ladies\, and a 2-item minimum spend is required for men at the venue. Price points are beyond reasonable on the menu compared to other venues with similar “hard to match” ambiance in the city!\n\nABOUT NYC BRIGHTEST: we implement a variety of high-quality diverse events such as unique themed wine and spirit tastings\, networking\, singles\, socials and speed dating in cool and chic venues! To view upcoming events\, please navigate to http://nycbrightest.com\,NYCBrightest on Eventbrite and nyc_brightest on Instagram.
URL:https://nycbrightest.com/event/n-y-c-35-over-singles-socialite-connections-party/
LOCATION:The Cloud One Lounge New York-Downtown\, 133 Greenwich Street\, New York\, NY\, 10006\, United States
ATTACH;FMTTYPE=image/jpeg:https://nycbrightest.com/wp-content/uploads/2025/11/96ad6c8b49fa5951e511afe81d66d27d-twpNB4.tmp_.jpg
END:VEVENT
BEGIN:VEVENT
DTSTART;TZID=America/New_York:20260227T190000
DTEND;TZID=America/New_York:20260227T203000
DTSTAMP:20260423T215230
CREATED:20260211T044141Z
LAST-MODIFIED:20260212T031309Z
UID:10003545-1772218800-1772224200@nycbrightest.com
SUMMARY:"HOT TAKE" SPEED DATING FOR 30'S & 40'S SINGLES!
DESCRIPTION:Lets’ skip the small talk and share our unbiased or biased personal opinions on some interesting topics! The idea is to accelerate finding compatibility by being your true authentic self! How it works: Ladies will receive a complimentary drink before a 7:30 pm arrival time!  During the speed dating\, ladies will sit and men will rotate! At the beginning of each round\, there will be a question/topic in which each participant will offer their “hot take” on the subject matter and question posed! As you sit across from your new potential match\, each person will be allotted a 1 minute timed window to offer your personal opinion/viewpoint\, and then both participants will have 3 minutes to ask further clarifying questions and or “debate” on the matter in a respectful light hearted conversation! Your matches will be delivered the next day\, and everyone will receive a complimentary after party going strong in a beautiful atmosphere until 10 pm! This private ticketed event is sponsored by NYC BRIGHTEST & CLOUD ONE LOUNGE! \nWHAT TO EXPECT: \n\nA new and innovative speed dating concept which accelerates true compatibility!\nLadies will receive a complimentary drink upon entry before 7:30 pm arrival!\nThe ages of the speed dating will be eligible singles who are in their 30’s & 40’S!\nAs Cloud One is waiving their large rental fee\, a 1 item minimum spend is required for ladies\, and a 2 item minimum spend is required for men at the venue!\nA complimentary after party with additional singles in the same age range!\nYour matches delivered the next day via email or text!\nAs Cloud one is a very chic hotel lounge\, ladies please dress to impress: Men: nice clean pants\, shirt\, shoes required as the suggested attire is smart casual(what you would wear to a nice dinner outing!)\nIf you are an essential worker\, please enter the promocode “hottake” for 2 dollars off at check out!\n\nABOUT NYC BRIGHTEST: we implement a variety of high-quality diverse events such as unique themed wine and spirit tastings\, networking\, singles\, socials and speed dating in cool and chic venues! To view upcoming events\, please navigate to http://nycbrightest.com\,NYCBrightest on eventbrite and nyc_brightest on Instagram! \n 
URL:https://nycbrightest.com/event/hot-take-n-y-c-speed-dating-for-singles-ages-32-48/
LOCATION:The Cloud One Lounge New York-Downtown\, 133 Greenwich Street\, New York\, NY\, 10006\, United States
ATTACH;FMTTYPE=image/png:https://nycbrightest.com/wp-content/uploads/2026/02/hot-take-speed-dating.png
END:VEVENT
END:VCALENDAR