BEGIN:VCALENDAR
VERSION:2.0
PRODID:-//New York City&#039;s Brightest - ECPv6.15.18//NONSGML v1.0//EN
CALSCALE:GREGORIAN
METHOD:PUBLISH
X-ORIGINAL-URL:https://nycbrightest.com
X-WR-CALDESC:Events for New York City&#039;s Brightest
REFRESH-INTERVAL;VALUE=DURATION:PT1H
X-Robots-Tag:noindex
X-PUBLISHED-TTL:PT1H
BEGIN:VTIMEZONE
TZID:America/New_York
BEGIN:DAYLIGHT
TZOFFSETFROM:-0500
TZOFFSETTO:-0400
TZNAME:EDT
DTSTART:20250309T070000
END:DAYLIGHT
BEGIN:STANDARD
TZOFFSETFROM:-0400
TZOFFSETTO:-0500
TZNAME:EST
DTSTART:20251102T060000
END:STANDARD
BEGIN:DAYLIGHT
TZOFFSETFROM:-0500
TZOFFSETTO:-0400
TZNAME:EDT
DTSTART:20260308T070000
END:DAYLIGHT
BEGIN:STANDARD
TZOFFSETFROM:-0400
TZOFFSETTO:-0500
TZNAME:EST
DTSTART:20261101T060000
END:STANDARD
BEGIN:DAYLIGHT
TZOFFSETFROM:-0500
TZOFFSETTO:-0400
TZNAME:EDT
DTSTART:20270314T070000
END:DAYLIGHT
BEGIN:STANDARD
TZOFFSETFROM:-0400
TZOFFSETTO:-0500
TZNAME:EST
DTSTART:20271107T060000
END:STANDARD
END:VTIMEZONE
BEGIN:VEVENT
DTSTART;TZID=America/New_York:20260305T190000
DTEND;TZID=America/New_York:20260305T210000
DTSTAMP:20260423T170650
CREATED:20260123T114049Z
LAST-MODIFIED:20260123T114049Z
UID:10003516-1772737200-1772744400@nycbrightest.com
SUMMARY:"EXPLORING THE BEST OF GREEK WINES" AN AUTHENTIC TASTING EXPERIENCE!
DESCRIPTION:Join us for a night of discovery at an amazing greek wine tasting!\n\n\nGreek wines are a long and storied history and is one of the world’s most ancient viticultural locations \, but they still deserve more attention from today’s\, curious wine drinker! Today Greece’s oldest varieties have found a growing audience on the international market\, thanks to passionate sommelier’s and wine historians. Among Greece’s more than 300 indigenous grapes\, several are millennia old. Grapes such as Assyrtiko\, Limnio\, Robola and Liatiko are just a few that draw particular attention for their world class quality\, with traditional and modern styles that align with 21th century palates! This evening of supreme taste and discovery will be occurring in one of the most elegant and delectable Greek restaurants in all of the 5 boroughs! This private ticketed event is sponsored by NYC BRIGHTEST and ELIA! \nWhat to expect: \n\nMeet and greet and check in with fellow wine enthusiasts from 7 to 7:15 pm.\nComplimentary delicious light bites at 7:15 pm while supplies last!\nProfessional presentation on the glorious history of Greek wines and elevated taste of 4 of ELIA’s top selections from 7:30 to 8pm!\nUnlimited pours of these wines from 8 to 9 pm!\nAn authentic top tier private Greek Wine Tasting in Elia which is a top Greek Restaurant for those in the know!\n\nABOUT NYC BRIGHTEST: we implement a variety of high-quality diverse events such as unique themed wine and spirit tastings\, networking\, singles\, socials and speed dating in cool and chic venues! To view upcoming events\, please navigate below! \nhttp://nycbrightest.com\, \nand follow NYC_Brightest on Instagram!
URL:https://nycbrightest.com/event/exploring-the-best-of-greek-wines-an-authentic-tasting-experience/
LOCATION:ELIA\, 8611 3rd Avenue\, BROOKLYN\, NY\, 11209!\, United States
ATTACH;FMTTYPE=image/jpeg:https://nycbrightest.com/wp-content/uploads/2026/01/36cf1e8c837e621ef9b63b93b459c877-omLZlX.tmp_.jpg
END:VEVENT
END:VCALENDAR