BEGIN:VCALENDAR
VERSION:2.0
PRODID:-//New York City&#039;s Brightest - ECPv6.15.18//NONSGML v1.0//EN
CALSCALE:GREGORIAN
METHOD:PUBLISH
X-WR-CALNAME:New York City&#039;s Brightest
X-ORIGINAL-URL:https://nycbrightest.com
X-WR-CALDESC:Events for New York City&#039;s Brightest
REFRESH-INTERVAL;VALUE=DURATION:PT1H
X-Robots-Tag:noindex
X-PUBLISHED-TTL:PT1H
BEGIN:VTIMEZONE
TZID:America/New_York
BEGIN:DAYLIGHT
TZOFFSETFROM:-0500
TZOFFSETTO:-0400
TZNAME:EDT
DTSTART:20250309T070000
END:DAYLIGHT
BEGIN:STANDARD
TZOFFSETFROM:-0400
TZOFFSETTO:-0500
TZNAME:EST
DTSTART:20251102T060000
END:STANDARD
BEGIN:DAYLIGHT
TZOFFSETFROM:-0500
TZOFFSETTO:-0400
TZNAME:EDT
DTSTART:20260308T070000
END:DAYLIGHT
BEGIN:STANDARD
TZOFFSETFROM:-0400
TZOFFSETTO:-0500
TZNAME:EST
DTSTART:20261101T060000
END:STANDARD
BEGIN:DAYLIGHT
TZOFFSETFROM:-0500
TZOFFSETTO:-0400
TZNAME:EDT
DTSTART:20270314T070000
END:DAYLIGHT
BEGIN:STANDARD
TZOFFSETFROM:-0400
TZOFFSETTO:-0500
TZNAME:EST
DTSTART:20271107T060000
END:STANDARD
END:VTIMEZONE
BEGIN:VEVENT
DTSTART;TZID=America/New_York:20260306T183000
DTEND;TZID=America/New_York:20260306T200000
DTSTAMP:20260423T170515
CREATED:20260219T044316Z
LAST-MODIFIED:20260219T202309Z
UID:10003556-1772821800-1772827200@nycbrightest.com
SUMMARY:"MYSTERY SPEED DATING" A UNIQUE 20'S & 30'S SINGLES EVENT!
DESCRIPTION:Join us in a surprise mystery speed dating event exclusively for 20’S and 30’S singles. Experience mystery and romance! Ladies will be receive a comp drink before 7 pm and will be in control of the speed dating as the theme will surprise you! Ladies will rotate to the men and then connections will spark as they may! \nAfter speed dating is over in which everyone will receive 1 on 1 personal connection time to determine if there is chemistry\, you will receive a complimentary after party in which everyone will receive billiards\, ping pong\, additional discounted drinks and enjoy a dj/live band. Your match results will be emailed\, texted the afternoon. This private ticketed event is sponsored by NYC BRIGHTEST & SUGARMOUSE NYC! \nABOUT NYC BRIGHTEST: we implement a variety of high-quality diverse events such as unique themed wine and spirit tastings\, networking\, singles\, socials and speed dating in cool and chic venues! To view upcoming events\, please navigate to.. \nhttp://nycbrightest.com\, \nNYC BRIGHTEST SINGLES/SOCIAL CONNECTIONS \nUNIQUE SPEED DATING EVENTS! \nWine And Spirit Tastings by NYC Brightest! \nand follow NYC_Brightest on Instagram!
URL:https://nycbrightest.com/event/mysterious-speed-dating-for-20s-30s-singles/
LOCATION:SUGAR MOUSE NYC\, 47 3rd Avenue\, Manhattan\, NY\, 10003\, United States
ATTACH;FMTTYPE=image/jpeg:https://nycbrightest.com/wp-content/uploads/2026/02/mystery-date1991.jpg
END:VEVENT
BEGIN:VEVENT
DTSTART;TZID=America/New_York:20260306T183000
DTEND;TZID=America/New_York:20260306T200000
DTSTAMP:20260423T170516
CREATED:20260302T030924Z
LAST-MODIFIED:20260302T040120Z
UID:10003563-1772821800-1772827200@nycbrightest.com
SUMMARY:SPEED DATING FOR SINGLE PROFESSIONALS AGES 36-49!
DESCRIPTION:Join us in a casual yet chic atmosphere and make that special connection!\n\n\n\nCome on out and meet other singles in a nice casual atmosphere. Ladies will sit and men will rotate and everyone will have 1 on 1 conversations to gauge the chemistry and mental stimulation! You will receive your match results the next day! \nThe ages of the participants will be 36-49! You must be in this age range to participate! There will be fun & thoughtful icebreakers to stimulate engaging conversation! \nThis is an NYC BRIGHTEST partner event which is well organized and in a great venue. Please note that this is private ticketed event only! \nAbout NYC BRIGHTEST:we implement curated events such as wine/spirit tastings\, speed datings\,game nights\, singles/socials and networking in cool and chic venues\, please navigate below to.. \nhttp://nycbrightest.com\, \nNYC BRIGHTEST SINGLES/SOCIAL CONNECTIONS\nUNIQUE SPEED DATING EVENTS!\nWine And Spirit Tastings by NYC Brightest!\nand follow NYC_Brightest on Instagram!
URL:https://nycbrightest.com/event/speed-dating-for-n-y-c-professionals-ages-36-49/
LOCATION:BLAGGARDS PUB\, 8 West 38th Street\, Manhattan\, NY\, 10018\, United States
ATTACH;FMTTYPE=image/jpeg:https://nycbrightest.com/wp-content/uploads/2026/01/9910bd8fe4e2e46310cb1ba840a7ab15-4d3tUm.tmp_.jpg
END:VEVENT
BEGIN:VEVENT
DTSTART;TZID=America/New_York:20260306T183000
DTEND;TZID=America/New_York:20260306T213000
DTSTAMP:20260423T170516
CREATED:20260302T050514Z
LAST-MODIFIED:20260302T050651Z
UID:10003567-1772821800-1772832600@nycbrightest.com
SUMMARY:N.Y.C. 40'S & OVER AFTER WORK CONNECT @ EMPIRE HOTEL!
DESCRIPTION:Meet like minded singles & socialites in a beautiful private penthouse setting! \nJoin us for our 40+ After Party at the upscale enclosed Empire Penthouse overlooking Lincoln Center! Staff will be on hand to welcome you and get you socializing in meaningful ways. We expect up to 70 people and friends ages 40+. The number of early bird tickets are not indicative of the event capacity! \nThis is a NYC Brightest Partner event which is enjoyable\, well organized and in a great venue! If you are an essential worker\, please enter the promo code “empirehotel” for $2 off admission. For all upcoming events\, including unique wine/spirit tastings\, unique networking\, social/single and speed dating in classy and chic venues\, please navigate to http://nycbrightest.com\,NYCBrightest on Eventbrite and nyc_brightest on Instagram. \nWhat to expect: \n\nWe will have several rounds of ice breakers that will connect you with others.\nHosts on hand to welcome you and introduce you to others at the event.\nUp to 60 singles & socialites coming together to mix\, mingle\, network and connect ages 40+\nMusic played at conversational levels.\n\nCost: $25 or higher at the door or online after 4 pm the day of for everyone. \nIs this for singles? This is for anyone looking to connect with others. We will have one color dedicated to “singles” so you can see who the other singles are. \nAges: 40+ \nCan I come alone? Yes\, most guests do! It’s a great way to meet new people. \nDress: Smart casual/neat \nQuestions? email info@nycbrightest.com\, M-F 10 am to 4 pm.
URL:https://nycbrightest.com/event/n-y-c-40s-over-after-work-connect-empire-hotel/
LOCATION:THE BLIND BARBER\, 339 EAST 10TH STREET\, New York\, NY\, 10009\, United States
ATTACH;FMTTYPE=image/jpeg:https://nycbrightest.com/wp-content/uploads/2025/07/6c17e3ad2358c9b81de04131f52a0215-FxiSc7.tmp_.jpg
END:VEVENT
BEGIN:VEVENT
DTSTART;TZID=America/New_York:20260306T183000
DTEND;TZID=America/New_York:20260306T220000
DTSTAMP:20260423T170516
CREATED:20260219T040522Z
LAST-MODIFIED:20260220T122155Z
UID:10003555-1772821800-1772834400@nycbrightest.com
SUMMARY:N.Y.C. GAME NIGHT MIX FOR SINGLES & SOCIALITES!
DESCRIPTION:Join in on a personalized curated game night experience! Ladies will receive a complimentary beverage before 7 pm and everyone will have $2 off each drink courtesy of NYC BRIGHTEST & SUGARMOUSE. All patrons will enjoy complimentary billiards\, ping pong\, giant jenga and other fun games for the duration of the event\, while also enjoying a live DJ/Band later on during the experience! There is a 1 item min spend required at the venue except for ladies who redeem their complimentary beverage! This private ticketed event is sponsored by NYC BRIGHTEST & SUGARMOUSE! \nAbout NYC BRIGHTEST: we implement curated events such as wine/spirit tastings\, speed dating’s\,game nights\, singles/socials and networking in cool and chic venues\, please navigate below to.. \nhttp://nycbrightest.com\, \nNYC BRIGHTEST SINGLES/SOCIAL CONNECTIONS UNIQUE SPEED DATING EVENTS! Wine And Spirit Tastings by NYC Brightest! and follow NYC_Brightest on Instagram!
URL:https://nycbrightest.com/event/n-y-c-game-night-mix-for-singles-socialites/
LOCATION:SUGAR MOUSE NYC\, 47 3rd Avenue\, Manhattan\, NY\, 10003\, United States
ATTACH;FMTTYPE=image/jpeg:https://nycbrightest.com/wp-content/uploads/2026/02/sugarmouse-1.jpeg
END:VEVENT
BEGIN:VEVENT
DTSTART;TZID=America/New_York:20260306T200000
DTEND;TZID=America/New_York:20260306T220000
DTSTAMP:20260423T170516
CREATED:20260302T034046Z
LAST-MODIFIED:20260302T040009Z
UID:10003564-1772827200-1772834400@nycbrightest.com
SUMMARY:"DATING GAMES" SPEED DATING!
DESCRIPTION:Our friendly host will welcome everyone and then you’ll be grouped off into separate tables where you’ll get to meet\, chat with and play fun social games with other singles in small groups of about 4 or 5 people. The games are super easy\, really fun and designed to help you get to know everyone! Then\, similar to traditional speed dating\, you’ll rotate from table to table getting a chance to meet all the other singles in attendance. You’ll be handed a “match sheet” and at the end of the event you’ll be able to indicate people you’d like to talk to again in the future. If they also choose you\, our host will send you each other’s contact information within about 24 hours after the event and you can feel free to set up a date with them. QUICK NOTE – PLEASE ARRIVE ON TIME. WE START THE EVENT PROMPTLY AT 8:00 PM. This is entirely new and revolutionary type of speed dating event! We love the idea of traditional speed dating but sometimes it’s hard to come up with things to talk about. That’s why at a “Dating Games” Speed Dating it will be easier to make connections! \nYou’ll enjoy an evening of meeting new people\, fun social interactions and games… No skill necessary\, just a bit of luck! THIS IS A PRE-PAY ONLY EVENT. YOU HAVE TO PURCHASE YOUR TICKETS HERE IN ADVANCE ONLINE. \nABOUT NYC BRIGHTEST: we implement a variety of high-quality diverse events such as unique themed wine and spirit tastings\, networking\, singles\, socials and speed dating in cool and chic venues! To view upcoming events\, please navigate below. \nhttp://nycbrightest.com\, \nNYC BRIGHTEST SINGLES/SOCIAL CONNECTIONS \nUNIQUE SPEED DATING EVENTS! \nWine And Spirit Tastings by NYC Brightest! \nand follow NYC_Brightest on Instagram! \n** Suggested age range is 20s\, 30s & 40s ** Our friendly host will welcome everyone and then you’ll be grouped off into separate tables where you’ll get to meet\, chat with and play fun social games with other singles in small groups of about 4 or 5 people. The games are super easy\, really fun and designed to help you get to know everyone! Then\, similar to traditional speed dating\, you’ll rotate from table to table getting a chance to meet all the other singles in attendance. You’ll be handed a “match sheet” and at the end of the event you’ll be able to indicate people you’d like to talk to again in the future \n. If they also choose you\, our host will send you each other’s contact information within about 24 hours after the event and you can feel free to set up a date with them. QUICK NOTE – PLEASE ARRIVE ON TIME. WE START THE EVENT PROMPTLY AT 8:00 PM. This is entirely new and revolutionary type of speed dating event! We love the idea of traditional speed dating but sometimes it’s hard to come up with things to talk about. That’s why at a “Dating Games” Speed Dating event you’ll have fun\, easy games to play to get to know everyone instead of dealing with the usual dating “job interview” type questions. We find that it’s a much better way to get to know someone! WIN PRIZES!!! You’ll enjoy an evening of meeting new people\, fun social interactions and games! WHY IT WORKS! Through the years we’ve organized many speed dating events. We noticed something fascinating start to happen! More people would make connections at the games after the event than at the actual speed dating! That led us to creating this event. It’s the perfect way to meet people in this busy city! WHAT GAMES WILL WE BE PLAYING? They are simple but extremely fun games that don’t require much skill… they are mostly fun games to get the crowd mingling and having a good time. The fun games are set up to break the ice\, help you gauge compatibility and make quality connections.
URL:https://nycbrightest.com/event/dating-games-speed-dating-72/
LOCATION:BLAGGARDS PUB\, 8 West 38th Street\, Manhattan\, NY\, 10018\, United States
ATTACH;FMTTYPE=image/jpeg:https://nycbrightest.com/wp-content/uploads/2026/03/dating-games.jpeg
END:VEVENT
END:VCALENDAR