BEGIN:VCALENDAR
VERSION:2.0
PRODID:-//New York City&#039;s Brightest - ECPv6.15.18//NONSGML v1.0//EN
CALSCALE:GREGORIAN
METHOD:PUBLISH
X-WR-CALNAME:New York City&#039;s Brightest
X-ORIGINAL-URL:https://nycbrightest.com
X-WR-CALDESC:Events for New York City&#039;s Brightest
REFRESH-INTERVAL;VALUE=DURATION:PT1H
X-Robots-Tag:noindex
X-PUBLISHED-TTL:PT1H
BEGIN:VTIMEZONE
TZID:America/New_York
BEGIN:DAYLIGHT
TZOFFSETFROM:-0500
TZOFFSETTO:-0400
TZNAME:EDT
DTSTART:20250309T070000
END:DAYLIGHT
BEGIN:STANDARD
TZOFFSETFROM:-0400
TZOFFSETTO:-0500
TZNAME:EST
DTSTART:20251102T060000
END:STANDARD
BEGIN:DAYLIGHT
TZOFFSETFROM:-0500
TZOFFSETTO:-0400
TZNAME:EDT
DTSTART:20260308T070000
END:DAYLIGHT
BEGIN:STANDARD
TZOFFSETFROM:-0400
TZOFFSETTO:-0500
TZNAME:EST
DTSTART:20261101T060000
END:STANDARD
BEGIN:DAYLIGHT
TZOFFSETFROM:-0500
TZOFFSETTO:-0400
TZNAME:EDT
DTSTART:20270314T070000
END:DAYLIGHT
BEGIN:STANDARD
TZOFFSETFROM:-0400
TZOFFSETTO:-0500
TZNAME:EST
DTSTART:20271107T060000
END:STANDARD
END:VTIMEZONE
BEGIN:VEVENT
DTSTART;TZID=America/New_York:20260314T180000
DTEND;TZID=America/New_York:20260314T193000
DTSTAMP:20260423T170528
CREATED:20260220T185442Z
LAST-MODIFIED:20260220T190203Z
UID:10003558-1773511200-1773516600@nycbrightest.com
SUMMARY:STYLISH SPEED DATING FOR 40'S & 50'S SINGLES!
DESCRIPTION:This experience is for singles who are in their 40’s and 50’S! All attendees receive an optional complimentary 40’s singles/social party which ends at 10 pm in the same venue. Join us and make new personal and love interest connections in amazing ambiance\, and complimentary signature cocktails in the one of the best hidden hotel lounges/penthouses in all of N.Y.C. The venue\, views\, customer service\, wines and cocktails are simply superlative for a price point that is unmatched in N.Y.C.!! In addition\, ladies will receive a complimentary signature one cloud cocktail/alcoholic or non)\, prosecc0\, wine upon entry. Dress to impress as there will be a complimentary after party featuring similar ages singles as well! This curated experience is sponsored by NYC BRIGHTEST & CLOUD ONE WINE BAR/LOUNGE & PENTHOUSE! The amount of early bird tickets is not indicative of the event capacity and prices will rise significantly without notice! \nHow it works: Ladies will sit and men will rotate and have 1 on 1 5-minute conversations to gauge the chemistry and mental stimulation! You will receive your match results via email or phone number the next morning\, as you select the delivery method that is preferred!! The ages of the participants who are 40’s and 50’s age range! You must be in this age range to participate. \nPlease note as Cloud One is waiving their sectional rental fee and providing complimentary cocktails for ladies\, there is a 1 item purchase for  2-item purchase for men required at the venue! Drinks and food are very in expensive ranging in the $5 to 15 range for a venue of this magnitude. \nABOUT NYC BRIGHTEST: we implement a variety of high-quality diverse events such as unique themed wine and spirit tastings\, networking\, singles\, socials and speed dating in cool and chic venues! To view upcoming events\, please navigate to http://nycbrightest.com\,NYCBrightest on Eventbrite and nyc_brightest on Instagram!
URL:https://nycbrightest.com/event/n-y-c-nice-to-meet-youstylish-penthouse-speed-dating/
LOCATION:The Cloud One Lounge New York-Downtown\, 133 Greenwich Street\, New York\, NY\, 10006\, United States
ATTACH;FMTTYPE=image/jpeg:https://nycbrightest.com/wp-content/uploads/2026/02/40s-and-50s-speed-dating.jpeg
END:VEVENT
BEGIN:VEVENT
DTSTART;TZID=America/New_York:20260314T183000
DTEND;TZID=America/New_York:20260314T200000
DTSTAMP:20260423T170528
CREATED:20260312T042552Z
LAST-MODIFIED:20260312T044424Z
UID:10003575-1773513000-1773518400@nycbrightest.com
SUMMARY:CASUAL WEEKEND SPEED DATING FOR SINGLES AGES 24-37!
DESCRIPTION:Come on out and meet other singles in a nice casual atmosphere. Ladies will sit and men will rotate and everyone will have group conversations to gauge the chemistry and mental stimulation! You will receive your match results the next day! \nThe ages of the participants will be 24-37! You must be in this age range to participate! There will be fun & thoughtful icebreakers to stimulate engaging conversation! \nThis is an NYC BRIGHTEST partner event which is well organized and in a great venue. Please note that this is private ticketed event only! If you are an essential worker\, please enter the promo code “casual” for $2 off at check out. \nAbout NYC BRIGHTEST: we implement curated events such as wine/spirit tastings\, speed dating’s\, game nights\, singles/socials and networking in cool and chic venues\, please navigate below to.. \nhttp://nycbrightest.com\, \nNYC BRIGHTEST SINGLES/SOCIAL CONNECTIONS UNIQUE SPEED DATING EVENTS! Wine And Spirit Tastings by NYC Brightest! and follow NYC_Brightest on Instagram!
URL:https://nycbrightest.com/event/casual-weekend-speed-dating-for-singles-ages-24-37/
LOCATION:BLAGGARDS PUB\, 8 West 38th Street\, Manhattan\, NY\, 10018\, United States
ATTACH;FMTTYPE=image/jpeg:https://nycbrightest.com/wp-content/uploads/2026/03/young-speed-dating-2.jpeg
END:VEVENT
BEGIN:VEVENT
DTSTART;TZID=America/New_York:20260314T190000
DTEND;TZID=America/New_York:20260314T210000
DTSTAMP:20260423T170528
CREATED:20260217T211841Z
LAST-MODIFIED:20260222T132330Z
UID:10003553-1773514800-1773522000@nycbrightest.com
SUMMARY:"HEAVEN IN A GLASS" EXQUISITE WINE TASTING!
DESCRIPTION:Join in on an amazing wine tasting experience in one of Manhattans undiscovered wine bar penthouse lounges with dramatic city views and a chic ambiance that rivals the best in the city!! On the exquisite menu you will find rare wines that are simply delicious\, and the price point is unbeatable for the quality and taste!! For the tasting\, we will be breaking out the best wines on their superlative menu! There will delicious complimentary light bites served from 8 to 8:30 pm. You will receive 4 different tastes of sommelier selected wines\, followed by unlimited generous pours of these rare wines for over 60 minutes! There are only 20 seats for this amazing wine tasting experience! The amount of early bird priced tickets in not indicative of the event capacity and prices can change at any time without notice as will be a sellout. This curated experience is sponsored by NYC BRIGHTEST & CLOUD ONE WINE BAR LOUNGE! \nWHAT TO EXPECT: \n\nCheck in and meet & greet with fellow wine enthusiasts from 7 to 7:20 pm!\nA professional presentation and taste of 4 rare varietals of delicious wines from 7:20 to 8:00 pm!\nComplimentary delicious light bites served from 8 to 8:30 pm!\nAn unlimited generous pour of these wines between 8 and 9 pm!\nAn unbeatable price point for the ambiance\, presentation\, wine quality and amount being served!\nIf you are an essential worker\, please enter the promo code “heaveninaglass” for $2 off admission at check out!\n\nABOUT NYC BRIGHTEST: we implement a variety of high-quality diverse events such as unique themed wine and spirit tastings\, networking\, singles\, socials and speed dating in cool and chic venues! To view upcoming events\, please navigate to http://nycbrightest.com\,NYCBrightest on Eventbrite and nyc_brightest on Instagram.
URL:https://nycbrightest.com/event/heaven-in-a-glass-exquisite-wine-tasting/
LOCATION:The Cloud One Lounge New York-Downtown\, 133 Greenwich Street\, New York\, NY\, 10006\, United States
ATTACH;FMTTYPE=image/jpeg:https://nycbrightest.com/wp-content/uploads/2026/02/heavan-in-a-glass.jpeg
END:VEVENT
BEGIN:VEVENT
DTSTART;TZID=America/New_York:20260314T193000
DTEND;TZID=America/New_York:20260314T230000
DTSTAMP:20260423T170528
CREATED:20260223T215114Z
LAST-MODIFIED:20260302T053750Z
UID:10003561-1773516600-1773529200@nycbrightest.com
SUMMARY:N.Y.C. 40'S & OVER SINGLES PARTY!
DESCRIPTION:This experience is for singles and socialites ages 40’s and over! Join us and make new connections in amazing ambiance\, and complimentary signature cocktails in the one of the best hidden hotel lounges/penthouses in all of N.Y.C. The venue\, views\, customer service\, wines and cocktails are simply superlative for a price point that is unmatched in N.Y.C.!! In addition\, all ladies  will receive a complimentary signature one cloud cocktail/alcoholic/wine/prsecco/champagne or non before 8:30 pm arrival. Dress to impress! This curated experience is sponsored by NYC BRIGHTEST & CLOUD ONE WINE BAR/LOUNGE & PENTHOUSE! The amount of early bird tickets is not indicative of the event capacity and prices will rise significantly without notice! Tickets will be $25 or higher at the door! \nWHAT TO EXPECT: \n\nMaking new connections with up to 60 singles and socialites in an amazing venue!\nLadies will receive a complimentary cocktail\,champagne\, prosecco\, wine before before 8:30 pm.\nDress code: ladies dress to impress. Men: this is a very classy venue. Dress code: nice shoes\, clean shirt\, pants expected.\nAs Cloud One is waiving their large rental fee and providing complimentary cocktails\, a 1 item minimum spend is require for ladies\, and a 2-item minimum spend is required for men at the venue. Price points are beyond reasonable on the menu compared to other venues with similar “hard to match” ambiance in the city!\n\nABOUT NYC BRIGHTEST: we implement a variety of high-quality diverse events such as unique themed wine and spirit tastings\, networking\, singles\, socials and speed dating in cool and chic venues! To view upcoming events\, please navigate to http://nycbrightest.com\,NYCBrightest on Eventbrite and nyc_brightest on Instagram.
URL:https://nycbrightest.com/event/40s-over-chic-penthouse-mix-for-singles-socialites/
LOCATION:The Cloud One Lounge New York-Downtown\, 133 Greenwich Street\, New York\, NY\, 10006\, United States
ATTACH;FMTTYPE=image/jpeg:https://nycbrightest.com/wp-content/uploads/2025/08/4c7eca965c938e4aed0765da7fc4d0d8-Lbpn7u.tmp_.jpg
END:VEVENT
BEGIN:VEVENT
DTSTART;TZID=America/New_York:20260314T200000
DTEND;TZID=America/New_York:20260314T220000
DTSTAMP:20260423T170528
CREATED:20260312T044831Z
LAST-MODIFIED:20260312T044940Z
UID:10003576-1773518400-1773525600@nycbrightest.com
SUMMARY:"PLAY & DATE" SPEED DATING!
DESCRIPTION:A PLAY & DATE speed dating event is a unique and enjoyable event in which you will meet your new love interest while making new friends. Our friendly host will welcome everyone and then you’ll be grouped off into separate tables where you’ll get to meet\, chat with and play fun social games with other singles in small groups of about 4 or 5 people. Then\, similar to traditional speed dating\, you’ll rotate from table to table getting a chance to meet all the other singles in attendance. You’ll be handed a “match sheet” and at the end of the event you’ll be able to indicate people you’d like to talk to again in the future. \nIf they also choose you\, our host will send you each other’s contact information within about 24 hours after the event and you can feel free to set up a date with them. You’ll enjoy an evening of meeting new people\, fun social interactions and games… No skill necessary\, just a bit of luck! Our friendly host will be orchestrating the event and making introductions among the group. You’ll participate in several games during the evening while getting a chance to interact with everyone! \nThis is an NYC BRIGHTEST partner event which is well organized and in a great venue. Please note that this is private ticketed event only! \nAbout NYC BRIGHTEST:we implement curated events such as wine/spirit tastings\, speed datings\,game nights\, singles/socials and networking in cool and chic venues\, please navigate below to.. \nhttp://nycbrightest.com\, \nNYC BRIGHTEST SINGLES/SOCIAL CONNECTIONS UNIQUE SPEED DATING EVENTS! Wine And Spirit Tastings by NYC Brightest! and follow NYC_Brightest on Instagram! \nWHAT GAMES WILL WE BE PLAYING? They are simple but extremely fun games that don’t require much skill… they are mostly fun games of luck and chance to get the crowd mingling and having a good time. The fun games are set up to break the ice\, help you gauge compatibility and make quality connections. Some of the games are similar to the most popular party games\, others are like casino games that involve rolling dice and some are a little bit different\, but we assure you… they are really\, really fun and you don’t need to know how to play anything in particular (ie. we won’t be playing blackjack or poker or anything like that). \nAn example game we sometimes like to play is “Dating Feud” which is similar to the popular prime time TV show we all know. In this game you and your dates will be asked fun relationship style questions like\, “Name a gift that women love men to give them”. You will work together with a small group of singles to come up with what you think is the most popular answer and then you’ll find out if you got the top answer. Another game we play is “Would You Rather” where we ask you fun questions like “Would you rather live the rest of your life without ever being able to watch and movie/TV show or would you rather never be able to listen to any song/music again?”. You answer the question and then you have to try and pick the most popular answer. FAQ: What is the age range? 20’S\,30’S\,40’S. WHY IT WORKS! Through the years we’ve organized many speed dating events. We had a host that would sometimes invite the guests to stay around if they wanted to after the event to play some games. She would bring some fun interactive games and casino type games of chance/luck with her. We noticed something fascinating start to happen! More people would make connections at the games after the event than at the actual speed dating! That led us to creating this event. It’s the perfect way to meet people in this busy city! \nABOUT NYC BRIGHTEST: we implement a variety of high-quality diverse events such as unique themed wine and spirit tastings\, networking\, singles\, socials and speed dating in cool and chic venues! To view upcoming events\, please navigate to http://nycbrightest.com\,NYCBrightest on Eventbrite and nyc_brightest on Instagram.
URL:https://nycbrightest.com/event/play-date-speed-dating/
LOCATION:BLAGGARDS PUB\, 8 West 38th Street\, Manhattan\, NY\, 10018\, United States
ATTACH;FMTTYPE=image/jpeg:https://nycbrightest.com/wp-content/uploads/2026/03/play-n-date.jpeg
END:VEVENT
END:VCALENDAR