BEGIN:VCALENDAR
VERSION:2.0
PRODID:-//New York City&#039;s Brightest - ECPv6.15.18//NONSGML v1.0//EN
CALSCALE:GREGORIAN
METHOD:PUBLISH
X-ORIGINAL-URL:https://nycbrightest.com
X-WR-CALDESC:Events for New York City&#039;s Brightest
REFRESH-INTERVAL;VALUE=DURATION:PT1H
X-Robots-Tag:noindex
X-PUBLISHED-TTL:PT1H
BEGIN:VTIMEZONE
TZID:America/New_York
BEGIN:DAYLIGHT
TZOFFSETFROM:-0500
TZOFFSETTO:-0400
TZNAME:EDT
DTSTART:20250309T070000
END:DAYLIGHT
BEGIN:STANDARD
TZOFFSETFROM:-0400
TZOFFSETTO:-0500
TZNAME:EST
DTSTART:20251102T060000
END:STANDARD
BEGIN:DAYLIGHT
TZOFFSETFROM:-0500
TZOFFSETTO:-0400
TZNAME:EDT
DTSTART:20260308T070000
END:DAYLIGHT
BEGIN:STANDARD
TZOFFSETFROM:-0400
TZOFFSETTO:-0500
TZNAME:EST
DTSTART:20261101T060000
END:STANDARD
BEGIN:DAYLIGHT
TZOFFSETFROM:-0500
TZOFFSETTO:-0400
TZNAME:EDT
DTSTART:20270314T070000
END:DAYLIGHT
BEGIN:STANDARD
TZOFFSETFROM:-0400
TZOFFSETTO:-0500
TZNAME:EST
DTSTART:20271107T060000
END:STANDARD
END:VTIMEZONE
BEGIN:VEVENT
DTSTART;TZID=America/New_York:20260320T183000
DTEND;TZID=America/New_York:20260320T200000
DTSTAMP:20260423T183800
CREATED:20260314T175857Z
LAST-MODIFIED:20260316T025259Z
UID:10003577-1774031400-1774036800@nycbrightest.com
SUMMARY:20'S & 30'S "LOVE" IS IT REALLY BLIND? SPEED DATING!
DESCRIPTION:Be prepared to experience a speed dating like no other! Since this event first debuted\, mutually connecting matches have been increased by 20% on average for both genders! Hey\, you like who you like! You love who you love! The heart does not see the flaws\, just the beauty in all the flaws. Here is how it will work: Ladies will first have girlfriend connect time bonding with their fellow speed daters conversating over complimentary cocktails! Gentleman will bond with their fellow male speed daters over complimentary pool and ping pong in a private separated from the ladies. Speed dating will then begin! The men will be donning a blind fold the entire speed dating\, while the ladies will rotate for each round. For ladies and men\, there will be special optional questions in regard to “LOVE” IS IT REALLY BLIND? in order to heighten the experience\, but it is not mandatory! After the speed dating\, the genders will be separated once more while the matches are selected and then handed in! There will be a complimentary after party in which everyone can mix and mingle over complimentary pool\, ping pong\, giant jenga and other cool games\, and then there will be access to a special happy hour only available to you and your fellow speed daters! Your matches will be emailed to you the next morning with the option to leave your contact number in addition to email. Early bird prices are limited\, and the number of tickets released is not indicative of the event capacity! This private ticketed event is sponsored by NYC BRIGHTEST & SOURMOUSE NYC. \nWhat to expect: \n\nA fun and interactive new speed dating concept!\nSpeed dating comes with a comp drink for ladies before 7 pm!\nGirlfriends connect time with complimentary drinks pre speed dating!\nGentleman connect time before 7 pm with complimentary billiards and ping pong. A 1 item purchase is required for men. There will be a special happy hour for everyone until 10 pm!\nDuring the speed dating\, gentleman will be blind folded\, and ladies will rotate and talk to each male participant!\nIf you are an essential worker\, please enter the promo code “areyoublindedbylove” for $2 off admission!\nComplimentary after party in which everyone can connect over complimentary billiards\, ping pong and other cool games!\nA live dj/band after speed dating ends!\n\nABOUT NYC BRIGHTEST: we implement a variety of high-quality diverse events such as unique themed wine and spirit tastings\, networking\, singles\, socials and speed dating in cool and chic venues! To view upcoming events\, please navigate below \nhttp://nycbrightest.com\, \nNYC BRIGHTEST SINGLES/SOCIAL CONNECTIONS UNIQUE SPEED DATING EVENTS! Wine And Spirit Tastings by NYC Brightest! and follow NYC_Brightest on Instagram!
URL:https://nycbrightest.com/event/love-is-it-really-blind-20s-30s-speed-dating-4/
LOCATION:Sour Mouse\, 110 Delancey Street\, New York\, NY\, 10002\, United States
ATTACH;FMTTYPE=image/jpeg:https://nycbrightest.com/wp-content/uploads/2026/01/a7f8b12e07c4ecc4db34909981524ba0-tbcugl.tmp_.jpg
END:VEVENT
BEGIN:VEVENT
DTSTART;TZID=America/New_York:20260320T183000
DTEND;TZID=America/New_York:20260320T220000
DTSTAMP:20260423T183800
CREATED:20260312T025643Z
LAST-MODIFIED:20260315T185102Z
UID:10003572-1774031400-1774044000@nycbrightest.com
SUMMARY:N.Y.C. GAME NIGHT CONNECT!
DESCRIPTION:Join in on a personalized curated game night experience! Ladies will receive a complimentary beverage before 7 pm and everyone will have $2 off each drink courtesy of NYC BRIGHTEST & SOURMOUSE. All patrons will enjoy complimentary billiards\, ping pong\, giant jenga and other fun games for the duration of the event\, while also enjoying a live DJ/Band later on during the experience! There is a 1 item min spend required at the venue except for ladies who redeem their complimentary beverage! This private ticketed event is sponsored by NYC BRIGHTEST & SOURMOUSE! \nAbout NYC BRIGHTEST: we implement curated events such as wine/spirit tastings\, speed dating’s\, game nights\, singles/socials and networking in cool and chic venues\, please navigate below to.. \nhttp://nycbrightest.com\, \nNYC BRIGHTEST SINGLES/SOCIAL CONNECTIONS UNIQUE SPEED DATING EVENTS! Wine And Spirit Tastings by NYC Brightest! and follow NYC_Brightest on Instagram!
URL:https://nycbrightest.com/event/n-y-c-game-night-connect-for-singles-socialites-2/
LOCATION:sourmouse\, 110 Delancey Street\, Manhattan\, NY\, 10002\, United States
ATTACH;FMTTYPE=image/jpeg:https://nycbrightest.com/wp-content/uploads/2026/01/dfd52940265bef162cad329f103df136-CP6Nxd.tmp_.jpg
END:VEVENT
END:VCALENDAR