BEGIN:VCALENDAR
VERSION:2.0
PRODID:-//New York City&#039;s Brightest - ECPv6.15.18//NONSGML v1.0//EN
CALSCALE:GREGORIAN
METHOD:PUBLISH
X-ORIGINAL-URL:https://nycbrightest.com
X-WR-CALDESC:Events for New York City&#039;s Brightest
REFRESH-INTERVAL;VALUE=DURATION:PT1H
X-Robots-Tag:noindex
X-PUBLISHED-TTL:PT1H
BEGIN:VTIMEZONE
TZID:America/New_York
BEGIN:DAYLIGHT
TZOFFSETFROM:-0500
TZOFFSETTO:-0400
TZNAME:EDT
DTSTART:20250309T070000
END:DAYLIGHT
BEGIN:STANDARD
TZOFFSETFROM:-0400
TZOFFSETTO:-0500
TZNAME:EST
DTSTART:20251102T060000
END:STANDARD
BEGIN:DAYLIGHT
TZOFFSETFROM:-0500
TZOFFSETTO:-0400
TZNAME:EDT
DTSTART:20260308T070000
END:DAYLIGHT
BEGIN:STANDARD
TZOFFSETFROM:-0400
TZOFFSETTO:-0500
TZNAME:EST
DTSTART:20261101T060000
END:STANDARD
BEGIN:DAYLIGHT
TZOFFSETFROM:-0500
TZOFFSETTO:-0400
TZNAME:EDT
DTSTART:20270314T070000
END:DAYLIGHT
BEGIN:STANDARD
TZOFFSETFROM:-0400
TZOFFSETTO:-0500
TZNAME:EST
DTSTART:20271107T060000
END:STANDARD
END:VTIMEZONE
BEGIN:VEVENT
DTSTART;TZID=America/New_York:20260328T190000
DTEND;TZID=America/New_York:20260328T210000
DTSTAMP:20260423T165526
CREATED:20260326T021906Z
LAST-MODIFIED:20260328T164815Z
UID:10003588-1774724400-1774731600@nycbrightest.com
SUMMARY:WEEKEND SPEED DATING FOR N.Y.C. SINGLES AGES 22-36!
DESCRIPTION:TO PURCHASE YOUR EARLY BIRD TICKETS\, PLEASE CLICK ON THE BLUE LINK BELOW. THANK YOU! \nhttps://weekendspeeddatingages2236nycbrightestexquistepalates.eventbrite.com \nCome on out and meet other singles in a nice casual atmosphere. Everyone will play games and have fun while becoming acquainted You will receive your match results the next day!\nThe ages of the participants will be 22 to 36! You must be in this age range to participate! There will be fun & thoughtful icebreakers to stimulate engaging conversation! \nTO PURCHASE YOUR EARLY BIRD TICKETS\, PLEASE CLICK ON THE BLUE LINK BELOW. THANK YOU! \nhttps://weekendspeeddatingages2236nycbrightestexquistepalates.eventbrite.com \nThis is an NYC BRIGHTEST partner event which is well organized and in a great venue. Please note that this is private ticketed event only! If you are an essential worker\, please enter the promo code “casualweekend” for $2 off at check out. \nTO PURCHASE YOUR EARLY BIRD TICKETS\, PLEASE CLICK ON THE BLUE LINK BELOW. THANK YOU! \nhttps://weekendspeeddatingages2236nycbrightestexquistepalates.eventbrite.com \nAbout NYC BRIGHTEST: we implement curated events such as wine/spirit tastings\, speed dating’s\, game nights\, singles/socials and networking in cool and chic venues\, please follow nyc_brightest on Instagram.
URL:https://nycbrightest.com/event/weekend-speed-dating-for-n-y-c-singles-ages-22-36/
LOCATION:BLAGGARDS PUB\, 8 West 38th Street\, Manhattan\, NY\, 10018\, United States
END:VEVENT
BEGIN:VEVENT
DTSTART;TZID=America/New_York:20260328T190000
DTEND;TZID=America/New_York:20260328T210000
DTSTAMP:20260423T165526
CREATED:20260326T033609Z
LAST-MODIFIED:20260328T211546Z
UID:10003590-1774724400-1774731600@nycbrightest.com
SUMMARY:"WELCOME TO SPRING" FUN & GAMES SINGLES NIGHT!
DESCRIPTION:TO PURCHASE YOUR EARLY BIRD TICKETS\, PLEASE CLICK ON THE BLUE LINK BELOW. THANK YOU!\nhttps://welcometospringfunandgamessinglesnycbrightestexquisitepalalates.eventbrite.com \nMix and mingle at our Game Night. We’ll bring the outdoor fun inside with mini versions of your favorite backyard games.\nCome join us for a fun-filled event! Get ready to mingle with other singles and enjoy some spring vibes. We’re bringing the backyard games indoors for a unique twist. Whether you’re a pro at cornhole or a master at shuffle board\, there’s something for everyone with our mini versions of your favorite backyard games. \nTO PURCHASE YOUR EARLY BIRD TICKETS\, PLEASE CLICK ON THE BLUE LINK BELOW. THANK YOU!\nhttps://welcometospringfunandgamessinglesnycbrightestexquisitepalalates.eventbrite.com \nDon’t miss out on this opportunity to make new connections and have a blast.\nYou’ll be handed a “match sheet” and at the end of the event you’ll be able to indicate people you’d like to talk to again in the future. If they also choose you\, our host will send you each others’ contact information within 48 hours after the event and you can feel free to set up a date with them.\n** Suggested age range is 20s\, 30s & 40s ** \nTO PURCHASE YOUR EARLY BIRD TICKETS\, PLEASE CLICK ON THE BLUE LINK BELOW. THANK YOU!\nhttps://welcometospringfunandgamessinglesnycbrightestexquisitepalalates.eventbrite.com\nTHIS IS A PRE-PAY ONLY EVENT. YOU HAVE TO GET YOUR TICKETS HERE IN ADVANCE ONLINE – YOU WON’T BE ABLE TO SIGN UP AT THE VENUE. THE PRICE WILL BE GOING UP TO $35 AS EVENT TIME APPROACHES AND SPACE FILLS UP. \nThis is an NYC BRIGHTEST partner event which is well organized and in a great venue. Please note that this is private ticketed event only! If you are an essential worker\, please enter the promo code “welcometospring” for $2 off at check out. \nAbout NYC BRIGHTEST: we implement curated events such as wine/spirit tastings\, speed dating’s\, game nights\, singles/socials and networking in cool and chic venues\, please navigate below to..\n[http://nycbrightest.com]()\,
URL:https://nycbrightest.com/event/welcome-to-spring-fun-games-singles-night/
LOCATION:BLAGGARDS PUB\, 8 West 38th Street\, Manhattan\, NY\, 10018\, United States
ATTACH;FMTTYPE=image/jpeg:https://nycbrightest.com/wp-content/uploads/2026/03/backyard-game-night.jpeg
END:VEVENT
BEGIN:VEVENT
DTSTART;TZID=America/New_York:20260328T193000
DTEND;TZID=America/New_York:20260328T223000
DTSTAMP:20260423T165526
CREATED:20260315T191934Z
LAST-MODIFIED:20260328T170542Z
UID:10003578-1774726200-1774737000@nycbrightest.com
SUMMARY:40'S & OVER "COCKTAILS & CONVERSATIONS" MIX FOR SINGLES & SOCIALITES!
DESCRIPTION:Meet like-minded singles & socialites in a beautiful speak easy setting! \nJoin us for our 40+ After Party at secret speakeasy Blind Barber! Staff will be on hand to welcome you and get you socializing in meaningful ways. We expect up to 70 people and friends ages 40+. The number of early bird tickets are not indicative of the event capacity! \nThis is a NYC Brightest Partner event which is enjoyable\, well organized and in a great venue! If you are an essential worker\, please enter the promo code “blindbarber” for $2 off admission. For all upcoming events\, including unique wine/spirit tastings\, unique networking\, social/single and speed dating in classy and chic venues\, please navigate to NYCBrightest on Eventbrite and nyc_brightest on Instagram. \nWhat to expect: \n\nWe will have several rounds of ice breakers that will connect you with others.\nHosts on hand to welcome you and introduce you to others at the event.\nUp to 60 singles & socialites coming together to mix\, mingle\, network and connect ages 40+\nMusic played at conversational levels.\n\nCost: $25 or higher at the door or online after 4 pm the day of for everyone. \nIs this for singles? This is for anyone looking to connect with others. We will have one color dedicated to “singles” so you can see who the other singles are. \nAges: 40+ \nCan I come alone? Yes\, most guests do! It’s a great way to meet new people. \nDress: Smart casual/neat \nQuestions? email info@nycbrightest.com\, M-F 10 am to 4 pm.
URL:https://nycbrightest.com/event/40s-over-cocktails-conversations-mix-for-singles-socialites/
LOCATION:THE BLIND BARBER\, 339 EAST 10TH STREET\, New York\, NY\, 10009\, United States
ATTACH;FMTTYPE=image/jpeg:https://nycbrightest.com/wp-content/uploads/2025/09/b27abb8f2929c5870a4bfc7efe4f20d6-Che2ar.tmp_.jpg
END:VEVENT
END:VCALENDAR