BEGIN:VCALENDAR
VERSION:2.0
PRODID:-//New York City&#039;s Brightest - ECPv6.15.18//NONSGML v1.0//EN
CALSCALE:GREGORIAN
METHOD:PUBLISH
X-ORIGINAL-URL:https://nycbrightest.com
X-WR-CALDESC:Events for New York City&#039;s Brightest
REFRESH-INTERVAL;VALUE=DURATION:PT1H
X-Robots-Tag:noindex
X-PUBLISHED-TTL:PT1H
BEGIN:VTIMEZONE
TZID:America/New_York
BEGIN:DAYLIGHT
TZOFFSETFROM:-0500
TZOFFSETTO:-0400
TZNAME:EDT
DTSTART:20250309T070000
END:DAYLIGHT
BEGIN:STANDARD
TZOFFSETFROM:-0400
TZOFFSETTO:-0500
TZNAME:EST
DTSTART:20251102T060000
END:STANDARD
BEGIN:DAYLIGHT
TZOFFSETFROM:-0500
TZOFFSETTO:-0400
TZNAME:EDT
DTSTART:20260308T070000
END:DAYLIGHT
BEGIN:STANDARD
TZOFFSETFROM:-0400
TZOFFSETTO:-0500
TZNAME:EST
DTSTART:20261101T060000
END:STANDARD
BEGIN:DAYLIGHT
TZOFFSETFROM:-0500
TZOFFSETTO:-0400
TZNAME:EDT
DTSTART:20270314T070000
END:DAYLIGHT
BEGIN:STANDARD
TZOFFSETFROM:-0400
TZOFFSETTO:-0500
TZNAME:EST
DTSTART:20271107T060000
END:STANDARD
END:VTIMEZONE
BEGIN:VEVENT
DTSTART;TZID=America/New_York:20260408T183000
DTEND;TZID=America/New_York:20260408T213000
DTSTAMP:20260423T150127
CREATED:20260315T212718Z
LAST-MODIFIED:20260407T002328Z
UID:10003579-1775673000-1775683800@nycbrightest.com
SUMMARY:"WINE DOWN" COZY CONNECT FOR SINGLES & SOCIALITIES@MAMALI!
DESCRIPTION:TO PURCHASE YOUR LIMITED EARLY BIRD TICKETS\, PLEASE CLICK ON THE BLUE LINKS BELOW. THANK YOU! \nhttps://winedownwednesaycozysocialnycbrightestexquisitepalates.eventbrite.com \n  \nJoin us for “Wine Down Wednesday” at MAMALI NYC! ALL LADIES WILL RECEIVE UNLIMITED POURS OF EXQUISITE WINES FROM 6:30 to 8 pm. There will be a complimentary raffle for all for a high-end wine bottle that is valued at $100 retail at 9:00 pm. “Mamali” a charming new cafe opening a few months ago\, is Georgian based with a weekly rotating exquisite wine list from all nations around the world. The food is fresh and delicious and has received a 4 and a half stars for customer service\, ambiance\, and product. There are only 25 spots available for this intimate experience as the general public will not be allowed. Early bird prices are limited and will raise without notice. This private curated event is sponsored by MAMALI NYC & NYC BRIGHTEST! \nTO PURCHASE YOUR LIMITED EARLY BIRD TICKETS\, PLEASE CLICK ON THE BLUE LINKS BELOW. THANK YOU! \nhttps://winedownwednesaycozysocialnycbrightestexquisitepalates.eventbrite.com \nWhat to expect: \n\nUnlimited delicious wine pours for ladies from 6:30 to 8 pm!\nA complimentary raffle for a $100 bottle of wine at 9 pm.\nFor men there is a 1 item $15 dollar minimum spend required at the venue.\nAmazing ambiance\, customer service and product!\n\nTO PURCHASE YOUR LIMITED EARLY BIRD TICKETS\, PLEASE CLICK ON THE BLUE LINKS BELOW. THANK YOU! \nhttps://winedownwednesaycozysocialnycbrightestexquisitepalates.eventbrite.com \nAbout NYC BRIGHTEST: we implement private curated events such as wine/spirit tastings\, speed dating’s\, game nights\, singles/socials and networking in cool and chic venues\, please navigate below to… \nTO PURCHASE YOUR LIMITED EARLY BIRD TICKETS\, PLEASE CLICK ON THE BLUE LINKS BELOW. THANK YOU! \nhttps://winedownwednesaycozysocialnycbrightestexquisitepalates.eventbrite.com \nhttp://nycbrightest.com\, \nNYC BRIGHTEST SINGLES/SOCIAL CONNECTIONS UNIQUE SPEED DATING EVENTS! Wine And Spirit Tastings by NYC Brightest! and follow NYC_Brightest on Instagram!
URL:https://nycbrightest.com/event/wine-down-wednesday-n-y-c-socialmamali/
LOCATION:MAMALI NYC\, 70 CHRISTOPHER STREET\, MANHATTAN\, NY\, 10014\, United States
ATTACH;FMTTYPE=image/jpeg:https://nycbrightest.com/wp-content/uploads/2026/03/wine-down-wed-2.jpg
END:VEVENT
BEGIN:VEVENT
DTSTART;TZID=America/New_York:20260408T183000
DTEND;TZID=America/New_York:20260408T213000
DTSTAMP:20260423T150127
CREATED:20260401T032503Z
LAST-MODIFIED:20260401T033359Z
UID:10003595-1775673000-1775683800@nycbrightest.com
SUMMARY:N.Y.C NETWORKING SOCIAL FOR SMALL BUSINESS\, ENTREPRENEURS\, & START-UPS!
DESCRIPTION:This Event Is For… \nEntrepreneurs! Small Business Owners! Startups! Freelancers! Gamechangers! Investors! Crowdfunding Experts!\, Web & Marketing Experts\, Job Seekers!\, Etc. \nWHAT IS THIS EVENT ALL ABOUT? \nThis event is the perfect opportunity to network with potential business partners\, investors\, industry professionals and new clients…. Or just come on out and make some new friends! We’ve witnessed countless business connections and friendships form at our past events. Come enjoy fun and easy way to connect with others in a relaxed\, low pressure environment. \nIMPORTANT NOTE: WE WILL HAVE MULTIPLE INDUSTRIES AT THIS EVENT. THE EVENT HOST WILL WRITE YOUR INDUSTRY ON YOUR NAME BADGE SO YOU CAN EASILY FIND AND CONNECT WITH THE RIGHT PEOPLE! \n** There are no speakers or sales pitches. It’s just a place to come mingle with like minded people. \nICEBREAKERS TO WIN PRIZES!!! \nAt the beginning of the event our host will hand you a sheet of paper with icebreaker questions that you can use to get to know the rest of the people at the event. The icebreakers are optional but most people love them because they really help you get to meet people. Those who do the icebreakers will be entered into our raffle to win prizes! \nAn email we received about one of our recent events: “Thank you so much for throwing such a great event. The crowd was really great and everyone was super friendly. As a busy professional I don’t get that much time to get out and meet people so it was nice to be in such a relaxed environment. Event well done!” – Danielle \nThis is an NYC BRIGHTEST partner event which is well organized and in a great venue. Please note that this is private ticketed event only! If you are an essential worker\, please enter the promo code “professionals” for $2 off at check out. \nAbout NYC BRIGHTEST: we implement curated events such as wine/spirit tastings\, speed dating’s\, game nights\, singles/socials and networking in cool and chic venues\, please navigate below to.. http://nycbrightest.com\, \nFAQ: \nHOW MANY WILL BE ATTENDING? \nIt ranges from event to event. We expect between 60 and 100 people sign up. \nCAN I ARRIVE LATE? \nAbsolutely. Arrive any time you’d like. \nCAN I COME ALONE? \nYes\, about 75% come on their own. \nWHAT IS THE DRESS CODE? \nWhile we don’t have a dress code we ask that you please look neat/presentable. What you wear to work or what you’d where for after work happy hour drinks is fine. \nCAN I PAY AT THE EVENT DOOR?\nWe do not accept payment at the event door. We also change the venue at each event and don’t give out the location to those who don’t sign up. You must pre-pay online. \nHOW LONG DOES THE EVENT GO?\nThe event is 3 hours long. You can arrive any time you’d like. \nARE THERE DRINKS?\nYes\, there’s a full menu of great drinks you can order at the bar. \nIS THERE FOOD AVAILABLE?\nYes you can order food. The venue has a food menu and great appetizers available to order. \nWHAT IS THE AGE RANGE?\nAnyone of any age who wants to network is welcome \nWHO ATTENDS THE EVENT?\nProfessionals of all sorts and ages
URL:https://nycbrightest.com/event/n-y-c-networking-social-for-small-business-entrepreneurs-start-ups/
LOCATION:TIPSY NOMAD\, 37 EAST 28th STREET\, Manhattan\, NY\, 10016
ATTACH;FMTTYPE=image/jpeg:https://nycbrightest.com/wp-content/uploads/2026/03/networking-spencer.jpeg
END:VEVENT
END:VCALENDAR