BEGIN:VCALENDAR
VERSION:2.0
PRODID:-//New York City&#039;s Brightest - ECPv6.15.18//NONSGML v1.0//EN
CALSCALE:GREGORIAN
METHOD:PUBLISH
X-ORIGINAL-URL:https://nycbrightest.com
X-WR-CALDESC:Events for New York City&#039;s Brightest
REFRESH-INTERVAL;VALUE=DURATION:PT1H
X-Robots-Tag:noindex
X-PUBLISHED-TTL:PT1H
BEGIN:VTIMEZONE
TZID:America/New_York
BEGIN:DAYLIGHT
TZOFFSETFROM:-0500
TZOFFSETTO:-0400
TZNAME:EDT
DTSTART:20250309T070000
END:DAYLIGHT
BEGIN:STANDARD
TZOFFSETFROM:-0400
TZOFFSETTO:-0500
TZNAME:EST
DTSTART:20251102T060000
END:STANDARD
BEGIN:DAYLIGHT
TZOFFSETFROM:-0500
TZOFFSETTO:-0400
TZNAME:EDT
DTSTART:20260308T070000
END:DAYLIGHT
BEGIN:STANDARD
TZOFFSETFROM:-0400
TZOFFSETTO:-0500
TZNAME:EST
DTSTART:20261101T060000
END:STANDARD
BEGIN:DAYLIGHT
TZOFFSETFROM:-0500
TZOFFSETTO:-0400
TZNAME:EDT
DTSTART:20270314T070000
END:DAYLIGHT
BEGIN:STANDARD
TZOFFSETFROM:-0400
TZOFFSETTO:-0500
TZNAME:EST
DTSTART:20271107T060000
END:STANDARD
END:VTIMEZONE
BEGIN:VEVENT
DTSTART;TZID=America/New_York:20260411T180000
DTEND;TZID=America/New_York:20260411T193000
DTSTAMP:20260423T150219
CREATED:20260219T212142Z
LAST-MODIFIED:20260315T185210Z
UID:10003557-1775930400-1775935800@nycbrightest.com
SUMMARY:"FINE & RARE" COCKTAIL TASTING EXPERIENCE!
DESCRIPTION:Join us for an intimate curated cocktail tasting experience in Tribeca’s newest hidden gem “ROSA AGAVE & WINE LOUNGE! Just recently opening at the end of November\, and featured on WPIX on Feb 17 this Mexican & Peruvian inspired approach delivers! The drinks and food menu were curated by Joe Cordero who brings a background in Michelin starred Cuisine. Step into a space that is elegant yet inviting where Latin inspired design meets modern sophistication! Candlelit tables\, warm textures and rich colors create an incredible vibe and ambiance. Each pour only using the highest crafted ingredients\, tells a story. This private curated experience is sponsored by NYC BRIGHTEST & ROSA AGAVE AND WINE LOUNGE! Early bird prices are limited and this will be a sellout! \nWhat to expect: \n\nA tasting in arguably the best new cocktail and wine bar in all of N.Y.C!\nCheck in and meet and greet with fellow cocktail enthusiasts from to 7 to 7:30 pm.\nAn in-depth navigation and tasting of 3 curated(slightly smaller scaled) craft cocktails in a professional presentation!\nThere are only 20 seats for this intimate experience!\n\nABOUT NYC BRIGHTEST: we implement a variety of high-quality diverse events such as unique themed wine and spirit tastings\, networking\, singles\, socials and speed dating in cool and chic venues! To view upcoming events\, please navigate below to. \nhttp://nycbrightest.com\, \nNYC BRIGHTEST SINGLES/SOCIAL CONNECTIONS\nUNIQUE SPEED DATING EVENTS!\nWine And Spirit Tastings by NYC Brightest!\nand follow NYC_Brightest on Instagram!
URL:https://nycbrightest.com/event/a-fine-rare-luscious-cocktail-tasting-experience/
LOCATION:ROSA-AGAVE & WINE LOUNGE\, 203 HUDSON STREET\, Manhattan\, NY\, 10013\, United States
ATTACH;FMTTYPE=image/jpeg:https://nycbrightest.com/wp-content/uploads/2026/02/rosa-6.jpeg
END:VEVENT
BEGIN:VEVENT
DTSTART;TZID=America/New_York:20260411T190000
DTEND;TZID=America/New_York:20260411T203000
DTSTAMP:20260423T150219
CREATED:20260330T042027Z
LAST-MODIFIED:20260402T203035Z
UID:10003593-1775934000-1775939400@nycbrightest.com
SUMMARY:"DO YOU ACCEPT OR REJECT?" 20'S & 30'S SPEED DATING!
DESCRIPTION:Join NYC BRIGHTEST & THE BEAUTIFUL ROSA-AGAVE LOUNGE for a most enjoyable and stimulating speed dating event! Lets’ skip the small talk and share our unbiased personal opinions on some interesting dating topics and beyond! The idea is to accelerate finding compatibility by being your true authentic self! How it works: Ladies will receive a complimentary drink before a 7:30 pm arrival time! During the speed dating\, ladies will sit and men will rotate! At the beginning of each round\, there will be a question/topic in which each participant will offer their “hot take” on the subject matter and question posed! As you sit across from your new potential match\, each person will be allotted a 1 minute timed window to offer your personal opinion/viewpoint\, and then both participants will have 3 minutes to ask further clarifying questions and or “debate” on the matter in a respectful light hearted conversation! Your matches will be delivered the next day via text/email! There will be an optional wine tasting directly after speed dating (8:30 pm to 10 pm) for a small additional fee. Please view ticket options when checking out! This private ticketed event is sponsored by NYC BRIGHTEST & ROSA- AGAVE LOUNGE! \nWHAT TO EXPECT: \n\nA new and innovative speed dating concept which accelerates true compatibility!\nLadies will receive a complimentary drink upon entry before 7:30 pm arrival!\nThe ages of the speed dating will be eligible singles who are in their 20’s & 30’S!\nAs ROSA-AGAVE is waiving their large rental fee\, a 1 item minimum spend is required for ladies\, and a 2 item minimum spend is required for men at the venue.\nYour matches delivered the next day via email or text!\nOptional amazing wine tasting for a small additional fee directly after the event. Please view ticket options at check out.\nAs Rosa-Agave has amazing ambiance and product\, ladies please dress to impress: Men: nice clean pants\, shirt\, shoes required as the suggested attire is smart casual(what you would wear to a nice dinner outing!)\n\nABOUT NYC BRIGHTEST: we implement a variety of high-quality diverse events such as unique themed wine and spirit tastings\, networking\, singles\, socials and speed dating in cool and chic venues! To view upcoming events\, please navigate to http://nycbrightest.com\,
URL:https://nycbrightest.com/event/are-we-harmonious-20s-30s-hot-take-speed-dating/
LOCATION:ROSA-AGAVE & WINE LOUNGE\, 203 HUDSON STREET\, Manhattan\, NY\, 10013\, United States
ATTACH;FMTTYPE=image/jpeg:https://nycbrightest.com/wp-content/uploads/2026/03/young-speed.jpeg
END:VEVENT
BEGIN:VEVENT
DTSTART;TZID=America/New_York:20260411T190000
DTEND;TZID=America/New_York:20260411T203000
DTSTAMP:20260423T150219
CREATED:20260403T200511Z
LAST-MODIFIED:20260403T200756Z
UID:10003600-1775934000-1775939400@nycbrightest.com
SUMMARY:"LIKE-MINDED" 30'S & 40'S TRUE COMPATIBILITY SPEED DATING!
DESCRIPTION:Join NYC BRIGHTEST & THE BEAUTIFUL ROSA-AGAVE LOUNGE for a most enjoyable and unique speed dating event! Lets’ skip the small talk and share our unbiased personal opinions on some interesting dating topics and beyond! The idea is to accelerate finding compatibility by being your true authentic self! How it works: Ladies will receive a complimentary drink before a 7:30 pm arrival time! During the speed dating\, ladies will sit and men will rotate! At the beginning of each round\, there will be a question/topic in which each participant will offer their “hot take” on the subject matter and question posed! As you sit across from your new potential match\, each person will be allotted a 1-minute timed window to offer your personal opinion/viewpoint\, and then both participants will have 3 minutes to ask further clarifying questions and or “debate” on the matter in a respectful lighthearted conversation! Your matches will be delivered the next day via text/email! There will be an optional wine tasting directly after speed dating (8:30 pm to 10 pm) for a small additional fee. Please view ticket options when checking out! This private ticketed event is sponsored by NYC BRIGHTEST & ROSA- AGAVE LOUNGE! \nWHAT TO EXPECT: \n\nA new and innovative speed dating concept which accelerates true compatibility!\nLadies will receive a complimentary drink upon entry before 7:30 pm arrival!\nThe ages of the speed dating will be eligible singles who are in their 30’s & 40’S!\nAs ROSA-AGAVE is waiving their large rental fee\, a 1 item minimum spend is required for ladies\, and a 2-item minimum spend is required for men at the venue.\nYour matches delivered the next day via email or text!\nOptional amazing wine tasting for a small additional fee directly after the event. Please view ticket options at check out.\nAs Rosa-Agave has amazing ambiance and product\, ladies please dress to impress: Men: nice clean pants\, shirt\, shoes required as the suggested attire is smart casual(what you would wear to a nice dinner outing!)\n\nABOUT NYC BRIGHTEST: we implement a variety of high-quality diverse events such as unique themed wine and spirit tastings\, networking\, singles\, socials and speed dating in cool and chic venues! To view upcoming events\, please navigate to http://nycbrightest.com
URL:https://nycbrightest.com/event/like-minded-30s-40s-true-compatibility-speed-dating/
LOCATION:ROSA-AGAVE & WINE LOUNGE\, 203 HUDSON STREET\, Manhattan\, NY\, 10013\, United States
ATTACH;FMTTYPE=image/jpeg:https://nycbrightest.com/wp-content/uploads/2026/01/30s-and-40s-speed.jpeg
END:VEVENT
BEGIN:VEVENT
DTSTART;TZID=America/New_York:20260411T193000
DTEND;TZID=America/New_York:20260411T223000
DTSTAMP:20260423T150219
CREATED:20260407T235655Z
LAST-MODIFIED:20260408T000039Z
UID:10003602-1775935800-1775946600@nycbrightest.com
SUMMARY:"COCKTAILS & CONVERSATIONS" SOCIAL CONNECT!
DESCRIPTION:Join dozens of guests\,\, from various social circles for a unique night of effortless connection\, laughter\, and new friendships. The amount of tickets available is not indicative of the event capacity! \nWhat to Expect:\nColor-Coded Interest Tags: At check-in\, you’ll choose up to 3 colored stickers based on what you’re into: \nExamples are below: \n\nGreen = Outdoor Adventures\nRed = Singles Events\nBlue = Arts & Culture\n\nThe moment you step into the room\, you’ll be surrounded by people who already share your interests. Conversation made easy! \nGuided Ice Breakers: We’ll keep the momentum going with a few fun and relaxed ice-breaker rounds to help you meet even more great people. \nFriendly Hosts: Our welcoming team will be there to greet you\, make introductions\, and ensure you have a great time. \nVibe & Venue \n\nBackground music at a comfortable\, conversational level.\nThis is an NYC BRIGHTEST partner event which is well organized and in a great venue. Please note that this is private ticketed event only! The first 5 people\, please enter the promo code”likeminded” for $5 off admission at check out!!\n\nAbout NYC BRIGHTEST: we implement curated events such as wine/spirit tastings\, speed dating’s\, game nights\, singles/socials and networking in cool and chic venues\, please navigate below to.. \nhttp://nycbrightest.com\, \nNYC BRIGHTEST SINGLES/SOCIAL CONNECTIONS \nUNIQUE SPEED DATING EVENTS! \nWine And Spirit Tastings by NYC Brightest! \nAdmission\n\n$25 At the door after 3 PM on the day of.\n\nQuick FAQs\nIs this a singles event? This event is for anyone looking to connect over shared interests! \nCan I come alone? Absolutely! Most attendees come solo—it’s one of the best ways to meet new people. \nDress Code: Smart casual / neat
URL:https://nycbrightest.com/event/cocktails-conversations-social-connect/
LOCATION:The Wilson\, 132 West 27th Street\, New York\, NY\, 10001\, United States
ATTACH;FMTTYPE=image/jpeg:https://nycbrightest.com/wp-content/uploads/2026/01/a54393dc34ecff2dbc1f937767541b50-cCyXgn.tmp_.jpg
END:VEVENT
BEGIN:VEVENT
DTSTART;TZID=America/New_York:20260411T200000
DTEND;TZID=America/New_York:20260411T220000
DTSTAMP:20260423T150219
CREATED:20260323T000935Z
LAST-MODIFIED:20260323T002105Z
UID:10003582-1775937600-1775944800@nycbrightest.com
SUMMARY:A "BOLD & BEAUTIFUL" WINE TASTING!
DESCRIPTION:Join us for the first ever wine tasting in Tribeca’s newest hidden gem “ROSA AGAVE & WINE LOUNGE! Just recently opening at the end of November\, and featured on WPIX on Feb 17 this Mexican & Peruvian inspired approach delivers! The drinks and food menu were curated by Joe Cordero who brings a background in Michelin starred Cuisine. Step into a space that is elegant yet inviting where Latin inspired design meets modern sophistication! Candlelit tables\, warm textures and rich colors create an incredible vibe and ambiance. Each pour tells a story. This private curated experience is sponsored by NYC BRIGHTEST & ROSA AGAVE AND WINE LOUNGE! Early bird prices are limited. This will be a sellout as only 40 spots are available! \nWhat to expect: \n\nCheck in and complimentary light bites from 8 to 8:20 pm!\nA professional presentation and taste of 4 exquisite wines from 8:20 to 8:50 pm\nAt 9 pm\, this will turn into a party vibe with unlimited pours and beautiful sounds and energy until 10 pm!\n\nABOUT NYC BRIGHTEST: we implement a variety of high-quality diverse events such as unique themed wine and spirit tastings\, networking\, singles\, socials and speed dating in cool and chic venues! To view upcoming events\, please navigate below to. \nhttp://nycbrightest.com\, \nNYC BRIGHTEST SINGLES/SOCIAL CONNECTIONS \nUNIQUE SPEED DATING EVENTS! \nWine And Spirit Tastings by NYC Brightest! and follow NYC_Brightest on Instagram!
URL:https://nycbrightest.com/event/elegance-uncorked-wine-tasting-experience/
LOCATION:ROSA-AGAVE & WINE LOUNGE\, 203 HUDSON STREET\, Manhattan\, NY\, 10013\, United States
ATTACH;FMTTYPE=image/jpeg:https://nycbrightest.com/wp-content/uploads/2026/03/rosa-wine-2.jpg
END:VEVENT
BEGIN:VEVENT
DTSTART;TZID=America/New_York:20260411T200000
DTEND;TZID=America/New_York:20260411T220000
DTSTAMP:20260423T150219
CREATED:20260408T153725Z
LAST-MODIFIED:20260408T153953Z
UID:10003604-1775937600-1775944800@nycbrightest.com
SUMMARY:"DATE & PLAY" N.Y.C. SPEED DATING!
DESCRIPTION:A DATE & PLAY speed dating event is a unique and enjoyable event in which you will meet your new love interest while making new friends. Our friendly host will welcome everyone and then you’ll be grouped off into separate tables where you’ll get to meet\, chat with and play fun social games with other singles in small groups of about 4 or 5 people. Then\, similar to traditional speed dating\, you’ll rotate from table to table getting a chance to meet all the other singles in attendance. You’ll be handed a “match sheet” and at the end of the event you’ll be able to indicate people you’d like to talk to again in the future. \nIf they also choose you\, our host will send you each other’s contact information within about 24 hours after the event and you can feel free to set up a date with them. You’ll enjoy an evening of meeting new people\, fun social interactions and games… No skill necessary\, just a bit of luck! Our friendly host will be orchestrating the event and making introductions among the group. You’ll participate in several games during the evening while getting a chance to interact with everyone! \nThis is an NYC BRIGHTEST partner event which is well organized and in a great venue. Please note that this is private ticketed event only! \nAbout NYC BRIGHTEST: we implement curated events such as wine/spirit tastings\, speed dating’s\, game nights\, singles/socials and networking in cool and chic venues\, please navigate below to.. \nhttp://nycbrightest.com\, \nNYC BRIGHTEST SINGLES/SOCIAL CONNECTIONS \nUNIQUE SPEED DATING EVENTS! \nWine And Spirit Tastings by NYC Brightest! and follow NYC_Brightest on Instagram! \nWHAT GAMES WILL WE BE PLAYING? They are simple but extremely fun games that don’t require much skill… they are mostly fun games of luck and chance to get the crowd mingling and having a good time. The fun games are set up to break the ice\, help you gauge compatibility and make quality connections. Some of the games are similar to the most popular party games\, others are like casino games that involve rolling dice and some are a little bit different\, but we assure you… they are really\, really fun and you don’t need to know how to play anything in particular (ie. we won’t be playing blackjack or poker or anything like that). \nAn example game we sometimes like to play is “Dating Feud” which is similar to the popular prime time TV show we all know. In this game you and your dates will be asked fun relationship style questions like\, “Name a gift that women love men to give them”. You will work together with a small group of singles to come up with what you think is the most popular answer and then you’ll find out if you got the top answer. Another game we play is “Would You Rather” where we ask you fun questions like “Would you rather live the rest of your life without ever being able to watch and movie/TV show or would you rather never be able to listen to any song/music again?”. You answer the question and then you have to try and pick the most popular answer. FAQ: What is the age range? 20’S\,30’S\,40’S. WHY IT WORKS! Through the years we’ve organized many speed dating events. We had a host that would sometimes invite the guests to stay around if they wanted to after the event to play some games. She would bring some fun interactive games and casino type games of chance/luck with her. We noticed something fascinating start to happen! More people would make connections at the games after the event than at the actual speed dating! That led us to creating this event. It’s the perfect way to meet people in this busy city! \nABOUT NYC BRIGHTEST: we implement a variety of high-quality diverse events such as unique themed wine and spirit tastings\, networking\, singles\, socials and speed dating in cool and chic venues! To view upcoming events\, please navigate to http://nycbrightest.com\,NYCBrightest on Eventbrite and nyc_brightest on Instagram.
URL:https://nycbrightest.com/event/date-play-n-y-c-speed-dating/
LOCATION:Dawson 39 Restaurant & Bar\, 54 West 39th Street\, New York\, NY\, 10018\, United States
ATTACH;FMTTYPE=image/jpeg:https://nycbrightest.com/wp-content/uploads/2026/03/date-and-play-1.jpeg
END:VEVENT
END:VCALENDAR