BEGIN:VCALENDAR
VERSION:2.0
PRODID:-//New York City&#039;s Brightest - ECPv6.15.18//NONSGML v1.0//EN
CALSCALE:GREGORIAN
METHOD:PUBLISH
X-WR-CALNAME:New York City&#039;s Brightest
X-ORIGINAL-URL:https://nycbrightest.com
X-WR-CALDESC:Events for New York City&#039;s Brightest
REFRESH-INTERVAL;VALUE=DURATION:PT1H
X-Robots-Tag:noindex
X-PUBLISHED-TTL:PT1H
BEGIN:VTIMEZONE
TZID:America/New_York
BEGIN:DAYLIGHT
TZOFFSETFROM:-0500
TZOFFSETTO:-0400
TZNAME:EDT
DTSTART:20250309T070000
END:DAYLIGHT
BEGIN:STANDARD
TZOFFSETFROM:-0400
TZOFFSETTO:-0500
TZNAME:EST
DTSTART:20251102T060000
END:STANDARD
BEGIN:DAYLIGHT
TZOFFSETFROM:-0500
TZOFFSETTO:-0400
TZNAME:EDT
DTSTART:20260308T070000
END:DAYLIGHT
BEGIN:STANDARD
TZOFFSETFROM:-0400
TZOFFSETTO:-0500
TZNAME:EST
DTSTART:20261101T060000
END:STANDARD
BEGIN:DAYLIGHT
TZOFFSETFROM:-0500
TZOFFSETTO:-0400
TZNAME:EDT
DTSTART:20270314T070000
END:DAYLIGHT
BEGIN:STANDARD
TZOFFSETFROM:-0400
TZOFFSETTO:-0500
TZNAME:EST
DTSTART:20271107T060000
END:STANDARD
END:VTIMEZONE
BEGIN:VEVENT
DTSTART;TZID=America/New_York:20260418T183000
DTEND;TZID=America/New_York:20260418T200000
DTSTAMP:20260423T145811
CREATED:20260416T034305Z
LAST-MODIFIED:20260416T034404Z
UID:10003619-1776537000-1776542400@nycbrightest.com
SUMMARY:N.Y.C. 40'S & 50'S WEEKEND SPEED DATING!
DESCRIPTION:Come on out and meet other singles after a long week at work. Ladies will sit and men will rotate and everyone will have 1 on 1 conversations to gauge the chemistry and mental stimulation! You will receive your match results the next day! The ages of the participants will be in their 40’s and 50’s years age range! You must be in this age range to participate! There will be fun & thoughtful icebreakers to stimulate engaging conversation! \nThis is an NYC BRIGHTEST partner event which is well organized and in a great venue. Please note that this is private ticketed event only! If you are an essential worker\, please enter the promo code “weekend” for $2 off at check out. \nAbout NYC BRIGHTEST: we implement curated events such as wine/spirit tastings\, speed dating’s\, game nights\, singles/socials and networking in cool and chic venues\, please navigate below to.. http://nycbrightest.com\,
URL:https://nycbrightest.com/event/n-y-c-40s-50s-weekend-speed-dating/
LOCATION:THE WESTBURY\, 20 WEST 38th STREET\, Manhattan\, NY\, 10018\, United States
ATTACH;FMTTYPE=image/jpeg:https://nycbrightest.com/wp-content/uploads/2026/01/164e097f13c63857d05cdd5c49e2b844-W6vZlb.tmp_.jpg
END:VEVENT
BEGIN:VEVENT
DTSTART;TZID=America/New_York:20260418T190000
DTEND;TZID=America/New_York:20260418T220000
DTSTAMP:20260423T145811
CREATED:20260415T033406Z
LAST-MODIFIED:20260415T040513Z
UID:10003614-1776538800-1776549600@nycbrightest.com
SUMMARY:40'S & OVER RETRO NIGHT!
DESCRIPTION:Join us for a relaxed and fun evening of socializing and nostalgia at St. Pat’s Bar and Grill featuring the music\, memories\, and vibes of the 60s\, 70s\, and 80s. This event is designed especially for members in their 40s and beyond who enjoy great conversation\, familiar tunes\, and meeting new people in a comfortable setting. \nWhether you’re new to NYC or are a native\, this is a great opportunity to connect with others in your age group while taking a lighthearted trip back in time. \nThis is an NYC BRIGHTEST partner event which is well organized and in a great venue. Please note that this is private ticketed event only! \nAbout NYC BRIGHTEST: we implement curated events such as wine/spirit tastings\, speed dating’s\, game nights\, singles/socials and networking in cool and chic venues\, please navigate below to.. \nhttp://nycbrightest.com\, \nNYC BRIGHTEST SINGLES/SOCIAL CONNECTIONS \nUNIQUE SPEED DATING EVENTS! \nWine And Spirit Tastings by NYC Brightest! and follow NYC_Brightest on Instagram! \n\nWhat to Expect:\n\n\nDoors open at 7 pm and we will be on the 3rd floor \n\n\nhosts on hand to welcome you and help make introductions \n\n\nFun\, easygoing activities throughout the night to encourage mingling \n\n\nMusic from the 60s\, 70s\, and 80s\, played at conversation-friendly levels. \n\n\nA full food and drink menu available for purchase \n\n\nA relaxed\, welcoming atmosphere—perfect for coming solo or with a friend. \n\nIf you are an essential worker\, please enter the promo code”retro” for $2 off admission!\n\n\nEvent Details\n\n\nIs this for singles?This event is for anyone looking to connect socially—friendships\, socializing\, or simply enjoying a great night out. \n\n\nAges: 40s+ \n\n\nCan I come alone?Absolutely. Most guests do\, and many say it’s one of the easiest ways to meet new people. \n\n\nDress Code: Smart casual / neat \n\n\nCost: \n\n\n$25 at the door or online after 3pm the day of the event
URL:https://nycbrightest.com/event/40s-over-retro-night/
LOCATION:St. Pat’s Bar & Grill NYC\, 22 West 46th Street\, New York\, NY\, 10036\, United States
ATTACH;FMTTYPE=image/jpeg:https://nycbrightest.com/wp-content/uploads/2026/04/retro.jpeg
END:VEVENT
BEGIN:VEVENT
DTSTART;TZID=America/New_York:20260418T200000
DTEND;TZID=America/New_York:20260418T220000
DTSTAMP:20260423T145811
CREATED:20260416T205753Z
LAST-MODIFIED:20260416T210219Z
UID:10003620-1776542400-1776549600@nycbrightest.com
SUMMARY:BINGO MINGLE 30'S & 40'S SPEED DATING!
DESCRIPTION:Have fun trying to fill out your bingo card while chatting with people in small groups\, while rotating tables and possibly meet your match \n\n\n\n\nLimited Spots Available! \nTickets are limited and this event is expected to sell out quickly\, so grab yours as soon as possible. Ticket prices increase as the event date approaches. \nWhat Is Bingo Mingle and Match?\nThis is a new\, fun and interactive twist on traditional speed dating. \nAt the beginning of the event\, you’ll receive a Bingo card. During the event\, you’ll be put in small groups to chat. Rounds will last about 10 minutes and the men will rotate each round. Throughout the rounds\, your goal is to complete as many Bingo squares as possible by finding people who match the descriptions. The ultimate goal is to complete a full card. There will also be Bingo numbers on the card as well. \nExamples include: \n\nFind someone who has more than 2 pets\nFind someone with blue eyes\nFind someone who has seen every Harry Potter movie\nFind someone who is a school teacher\nFind someone who has traveled to more than two countries this year\nFind someone whose zodiac sign is Capricorn\n\nDuring your chatting sessions you will ask questions that would reveal answers that you can mark off on your Bingo card. The Bingo card boxes can lead to discussions and you will all learn about each other. \nMeanwhile\, the host will occasionally call out Bingo numbers throughout the event (like B6\, N32\, etc.). \nComplete your board and shout “BINGO!” 🎉 \nWe’ll keep playing even after the first winner\, so multiple winners and prizes are common. \nThis is an NYC BRIGHTEST partner event which is well organized and in a great venue. Please note that this is private ticketed event only! \nAbout NYC BRIGHTEST: we implement curated events such as wine/spirit tastings\, speed dating’s\, game nights\, singles/socials and networking in cool and chic venues\, please navigate below to.. \nhttp://nycbrightest.com\, \nNYC BRIGHTEST SINGLES/SOCIAL CONNECTIONS \nUNIQUE SPEED DATING EVENTS! \nWine And Spirit Tastings by NYC Brightest! and follow NYC_Brightest on Instagram! \nWhy People Love This Event\nIt’s interactive\, fun\, and engaging — and a lot more exciting than swiping through dating apps. \nBest of all\, you’ll experience real conversations\, genuine connections\, and a relaxed environment where you can quickly see if there’s chemistry. \nHow Matching Works\nYou’ll receive a match card to fill out during the event. Simply write down the names of the people you’d like to see again. \nAt the end of the night\, turn in your match card to the host. If two people select each other\, we’ll send both of you an email within 48 hours containing each other’s first name and email address so you can plan a future date. \nWe only share contact information when there is a mutual match. \nMeet Quality Singles\nOur events typically attract single professionals who are serious about meeting someone special and are ready to move beyond the games often found in online dating. \nMost people know within just a few minutes whether they’d like to see someone again — which is why speed dating works so well. \nSkip the Endless Swiping\nLet’s face it: many of us are tired of endlessly swiping and wondering if someone actually looks like their profile. \nAt this event\, you’ll meet people face-to-face\, making it easier to connect and decide if you’d like to continue getting to know someone. \nEvent Notes\n\nCheck-in begins 15 minutes before the event\, so please arrive a little early if possible.\nMost attendees come alone\, so don’t worry if you’re coming by yourself. About 90% of participants attend solo\, and the format makes it easy to meet people quickly.\n\nWhat People Are Saying\n“I loved that it didn’t feel forced or awkward. The Bingo gave us something to laugh about and instantly broke the ice.” – Priya K. \n“I’ve tried dating apps for years and this felt so much more genuine. You get to see someone’s personality right away.” – Mark D. \n“Everything felt natural. It was like a party where you could actually get to know people.” – Sofia R. \nReserve Your Spot\nSpots are limited and these events often sell out quickly. Sign up early and get ready for a night of fun\, flirting\, and friendly competition. \nYour next great connection might be just one square away from BINGO. \nFAQ\nCan I come alone?\nYes. About 85% of attendees come by themselves. \nWhat’s the dress code?\nThere’s no strict dress code\, but we ask that you look neat and presentable. Business casual is usually perfect. \nCan I pay at the door?\nNo. All tickets must be purchased online in advance. \nWhen will I receive my matches?\nMatches will be emailed to you within 48 hours after the event. \nWhat is the refund policy?\nIf you need to cancel\, email us and we can transfer your ticket to a future event. Transfers are not available for same-day cancellations or no-shows.
URL:https://nycbrightest.com/event/bingo-mingle-30s-40s-speed-dating/
LOCATION:Dawson 39 Restaurant & Bar\, 54 West 39th Street\, New York\, NY\, 10018\, United States
END:VEVENT
END:VCALENDAR