BEGIN:VCALENDAR
VERSION:2.0
PRODID:-//New York City&#039;s Brightest - ECPv6.15.18//NONSGML v1.0//EN
CALSCALE:GREGORIAN
METHOD:PUBLISH
X-ORIGINAL-URL:https://nycbrightest.com
X-WR-CALDESC:Events for New York City&#039;s Brightest
REFRESH-INTERVAL;VALUE=DURATION:PT1H
X-Robots-Tag:noindex
X-PUBLISHED-TTL:PT1H
BEGIN:VTIMEZONE
TZID:America/New_York
BEGIN:DAYLIGHT
TZOFFSETFROM:-0500
TZOFFSETTO:-0400
TZNAME:EDT
DTSTART:20250309T070000
END:DAYLIGHT
BEGIN:STANDARD
TZOFFSETFROM:-0400
TZOFFSETTO:-0500
TZNAME:EST
DTSTART:20251102T060000
END:STANDARD
BEGIN:DAYLIGHT
TZOFFSETFROM:-0500
TZOFFSETTO:-0400
TZNAME:EDT
DTSTART:20260308T070000
END:DAYLIGHT
BEGIN:STANDARD
TZOFFSETFROM:-0400
TZOFFSETTO:-0500
TZNAME:EST
DTSTART:20261101T060000
END:STANDARD
BEGIN:DAYLIGHT
TZOFFSETFROM:-0500
TZOFFSETTO:-0400
TZNAME:EDT
DTSTART:20270314T070000
END:DAYLIGHT
BEGIN:STANDARD
TZOFFSETFROM:-0400
TZOFFSETTO:-0500
TZNAME:EST
DTSTART:20271107T060000
END:STANDARD
END:VTIMEZONE
BEGIN:VEVENT
DTSTART;TZID=America/New_York:20260422T183000
DTEND;TZID=America/New_York:20260422T213000
DTSTAMP:20260423T150023
CREATED:20260422T025314Z
LAST-MODIFIED:20260422T025435Z
UID:10003626-1776882600-1776893400@nycbrightest.com
SUMMARY:N.Y.C. NETWORKING SOCIAL FOR SMALL BUSINESS\, ENTREPRENURS\, FREELANCERS\, STARTUPS & MORE!
DESCRIPTION:This Event Is For… \nEntrepreneurs! Small Business Owners! Startups! Freelancers! Gamechangers! Investors! Crowdfunding Experts!\, Web & Marketing Experts\, Job Seekers!\, Etc. \nWHAT IS THIS EVENT ALL ABOUT? \nThis event is the perfect opportunity to network with potential business partners\, investors\, industry professionals and new clients…. Or just come on out and make some new friends! We’ve witnessed countless business connections and friendships form at our past events. Come enjoy fun and easy way to connect with others in a relaxed\, low pressure environment. \nIMPORTANT NOTE: WE WILL HAVE MULTIPLE INDUSTRIES AT THIS EVENT. THE EVENT HOST WILL WRITE YOUR INDUSTRY ON YOUR NAME BADGE SO YOU CAN EASILY FIND AND CONNECT WITH THE RIGHT PEOPLE! \nThis is an NYC BRIGHTEST partner event which is well organized and in a great venue. Please note that this is private ticketed event only! \nAbout NYC BRIGHTEST: we implement curated events such as wine/spirit tastings\, speed dating’s\, game nights\, singles/socials and networking in cool and chic venues\, please navigate below to.. http://nycbrightest.com\, \n** There are no speakers or sales pitches. It’s just a place to come mingle with like minded people. \nICEBREAKERS TO WIN PRIZES!!! \nAt the beginning of the event our host will hand you a sheet of paper with icebreaker questions that you can use to get to know the rest of the people at the event. The icebreakers are optional but most people love them because they really help you get to meet people. Those who do the icebreakers will be entered into our raffle to win prizes! \nAn email we received about one of our recent events: “Thank you so much for throwing such a great event. The crowd was really great and everyone was super friendly. As a busy professional I don’t get that much time to get out and meet people so it was nice to be in such a relaxed environment. Event well done!” – Danielle \nFAQ: \nHOW MANY WILL BE ATTENDING? \nIt ranges from event to event. We expect between 60 and 100 people sign up. \nCAN I ARRIVE LATE? \nAbsolutely. Arrive any time you’d like. \nCAN I COME ALONE? \nYes\, about 75% come on their own. \nWHAT IS THE DRESS CODE? \nWhile we don’t have a dress code we ask that you please look neat/presentable. What you wear to work or what you’d where for after work happy hour drinks is fine. \nCAN I PAY AT THE EVENT DOOR? We do not accept payment at the event door. We also change the venue at each event and don’t give out the location to those who don’t sign up. You must pre-pay online. \nHOW LONG DOES THE EVENT GO? The event is 3 hours long. You can arrive any time you’d like. \nARE THERE DRINKS? Yes\, there’s a full menu of great drinks you can order at the bar. \nIS THERE FOOD AVAILABLE? Yes you can order food. The venue has a food menu and great appetizers available to order. \nWHAT IS THE AGE RANGE? Anyone of any age who wants to network is welcome. \nWHO ATTENDS THE EVENT? Professionals of all sorts and ages.
URL:https://nycbrightest.com/event/n-y-c-networking-social-for-small-business-entreprenurs-freelancers-startups-more/
LOCATION:TAP HAUS 33\, 14 EAST 33rd\, Manhattan\, NY\, 10016\, United States
ATTACH;FMTTYPE=image/jpeg:https://nycbrightest.com/wp-content/uploads/2026/03/networking-spencer.jpeg
END:VEVENT
END:VCALENDAR