BEGIN:VCALENDAR
VERSION:2.0
PRODID:-//New York City&#039;s Brightest - ECPv6.15.18//NONSGML v1.0//EN
CALSCALE:GREGORIAN
METHOD:PUBLISH
X-WR-CALNAME:New York City&#039;s Brightest
X-ORIGINAL-URL:https://nycbrightest.com
X-WR-CALDESC:Events for New York City&#039;s Brightest
REFRESH-INTERVAL;VALUE=DURATION:PT1H
X-Robots-Tag:noindex
X-PUBLISHED-TTL:PT1H
BEGIN:VTIMEZONE
TZID:America/New_York
BEGIN:DAYLIGHT
TZOFFSETFROM:-0500
TZOFFSETTO:-0400
TZNAME:EDT
DTSTART:20250309T070000
END:DAYLIGHT
BEGIN:STANDARD
TZOFFSETFROM:-0400
TZOFFSETTO:-0500
TZNAME:EST
DTSTART:20251102T060000
END:STANDARD
BEGIN:DAYLIGHT
TZOFFSETFROM:-0500
TZOFFSETTO:-0400
TZNAME:EDT
DTSTART:20260308T070000
END:DAYLIGHT
BEGIN:STANDARD
TZOFFSETFROM:-0400
TZOFFSETTO:-0500
TZNAME:EST
DTSTART:20261101T060000
END:STANDARD
BEGIN:DAYLIGHT
TZOFFSETFROM:-0500
TZOFFSETTO:-0400
TZNAME:EDT
DTSTART:20270314T070000
END:DAYLIGHT
BEGIN:STANDARD
TZOFFSETFROM:-0400
TZOFFSETTO:-0500
TZNAME:EST
DTSTART:20271107T060000
END:STANDARD
END:VTIMEZONE
BEGIN:VEVENT
DTSTART;TZID=America/New_York:20260521T183000
DTEND;TZID=America/New_York:20260521T203000
DTSTAMP:20260423T165342
CREATED:20260412T233348Z
LAST-MODIFIED:20260421T145323Z
UID:10003609-1779388200-1779395400@nycbrightest.com
SUMMARY:"WOMAN OF COLOR & THE MEN WHO ADMIRE THEM" SPEED DATING!
DESCRIPTION:Join us for “WOMAN OF COLOR” SPEED DATING EVENT FOR SINGLES AGES 25-45! On Thursday\, April 23\,  starting at 6:30 PM\, meet your special connection at The Cloud One Lounge\, New York-Downtown.  Meet your special someone in an unforgettable atmosphere featuring breathtaking views\, exceptional customer service\, and a stylish penthouse setting that embodies the best of NYC nightlife. There will be a live DJ starting at 6:30 pm to set the vibe. This private ticketed event is sponsored by NYC BRIGHTEST & CLOUD ONE LOUNGE! \nHOW IT WORKS: Ladies will sit and men will rotate. Everyone will have 5 minutes of personal 1 on 1 conversations to see if you align with the person sitting across from you. At the end the speed dating\, ladies and gentleman will separate \,in which you will select your matches. The match sheets will be collected and you will receive your match results that very evening. There will be a complimentary post mingle until 9:00 pm. \nLadies of color will enjoy unlimited delicious rosé wine pours exclusively from 6:30 to 7:30 pm. Following this\, ladies can savor a complimentary Cloud One Signature champagne cocktail before 8:30 PM\, all with no minimum spend. Your match results will be delivered that same evening after the event via text or email! \nWHAT TO EXPECT: \n  \n\nComplimentary unlimited rosé wine pours for ladies from 6:30 to 7:30 PM.\nA complimentary signature champagne cocktail for ladies at 8:30 pm post mingle.\nSpeed Dating will begin at 7 pm as please arrive at the starting time!\nDress to impress: Ladies\, bring your best look! Gentlemen\, please wear nice shoes\, a clean shirt\, and pants to match the venue’s upscale vibe.\nAn exceptional value entry price—early bird tickets available now. A live DJ for the duration of the event!\nA $20 two-item minimum spend applies to men\, with menu prices that are reasonable and competitive for a venue of this caliber.\n\nThis exclusive event is proudly sponsored by NYC BRIGHTEST and Cloud One Wine Bar/Lounge & Penthouse. NYC BRIGHTEST curates a variety of quality events including themed wine and spirit tastings\, networking socials\, singles mixers\, and speed dating in the city’s most stylish venues. To explore more upcoming events\, visit http://nycbrightest.com\, find us on Eventbrite as NYCBrightest\, or follow nyc_brightest on Instagram.
URL:https://nycbrightest.com/event/an-exclusivewoman-of-color-the-men-who-love-them-speed-dating-event/
LOCATION:The Cloud One Lounge New York-Downtown\, 133 Greenwich Street\, New York\, NY\, 10006\, United States
ATTACH;FMTTYPE=image/jpeg:https://nycbrightest.com/wp-content/uploads/2026/03/young-speed.jpeg
END:VEVENT
BEGIN:VEVENT
DTSTART;TZID=America/New_York:20260521T190000
DTEND;TZID=America/New_York:20260521T210000
DTSTAMP:20260423T165342
CREATED:20260413T030644Z
LAST-MODIFIED:20260421T145450Z
UID:10003610-1779390000-1779397200@nycbrightest.com
SUMMARY:"THE ART OF THE MIX" COCKTAIL TASTING EXPERIENCE @CLOUD ONE!
DESCRIPTION:Enjoy Cloud One’s first ever cocktail tasting! The Cloud One Lounge New York Downtown is a masterpiece of sophistication and flavor\, offering an experience that rivals the best in the city! The ambiance of the lounge located on the 6th floor is unparalleled. Floor to ceiling windows with a beautiful outdoor sundeck offer stunning views of downtown Manhattan creating the perfect backdrop of your evening. The lounge is chic\, intimate and buzzing with energy! Let’s talk about the drinks! The cocktail menu is a work of art\, from timeless classics to unique concoctions that push the boundaries of mixology! There will be a complimentary welcome cocktail and a live DJ for everyone! This private ticketed event is sponsored by THE CLOUD ONE LOUNGE & NYC BRIGHTEST! The amount of early bird tickets released is not indicative of the event capacity! \nWhat to expect: \n\nMeet and greet and check in at 7 pm.\nA welcome cloud one signature cocktail before 7:30 pm.\n3 slightly smaller scaled delicious cocktails specifically created for this event in a professional presentation from 7:30 to 9:00 pm.\nSpectacular views\, ambiance\, and a live DJ for your listening and potential dancing pleasure.\nDress code: Ladies dress to impress. Men: business casual\, with nice shoes\, clean pants and dress shirt suggested. No tee shirts\, sneakers and caps will be allowed.\n\nABOUT NYC BRIGHTEST: we implement a variety of high-quality diverse events such as unique themed wine and spirit tastings\, networking\, singles\, socials and speed dating in cool and chic venues! To view upcoming events\, please navigate to http://nycbrightest.com\,NYCBrightest on eventbrite and nyc_brightest on Instagra
URL:https://nycbrightest.com/event/cocktail-excellence-the-art-of-the-mix-tasting-experience-cloud-one/
LOCATION:The Cloud One Lounge New York-Downtown\, 133 Greenwich Street\, New York\, NY\, 10006\, United States
ATTACH;FMTTYPE=image/jpeg:https://nycbrightest.com/wp-content/uploads/2025/11/cocktail-tasting-3.jpg
END:VEVENT
END:VCALENDAR