BEGIN:VCALENDAR
VERSION:2.0
PRODID:-//New York City&#039;s Brightest - ECPv6.15.18//NONSGML v1.0//EN
CALSCALE:GREGORIAN
METHOD:PUBLISH
X-WR-CALNAME:New York City&#039;s Brightest
X-ORIGINAL-URL:https://nycbrightest.com
X-WR-CALDESC:Events for New York City&#039;s Brightest
REFRESH-INTERVAL;VALUE=DURATION:PT1H
X-Robots-Tag:noindex
X-PUBLISHED-TTL:PT1H
BEGIN:VTIMEZONE
TZID:America/New_York
BEGIN:DAYLIGHT
TZOFFSETFROM:-0500
TZOFFSETTO:-0400
TZNAME:EDT
DTSTART:20250309T070000
END:DAYLIGHT
BEGIN:STANDARD
TZOFFSETFROM:-0400
TZOFFSETTO:-0500
TZNAME:EST
DTSTART:20251102T060000
END:STANDARD
BEGIN:DAYLIGHT
TZOFFSETFROM:-0500
TZOFFSETTO:-0400
TZNAME:EDT
DTSTART:20260308T070000
END:DAYLIGHT
BEGIN:STANDARD
TZOFFSETFROM:-0400
TZOFFSETTO:-0500
TZNAME:EST
DTSTART:20261101T060000
END:STANDARD
BEGIN:DAYLIGHT
TZOFFSETFROM:-0500
TZOFFSETTO:-0400
TZNAME:EDT
DTSTART:20270314T070000
END:DAYLIGHT
BEGIN:STANDARD
TZOFFSETFROM:-0400
TZOFFSETTO:-0500
TZNAME:EST
DTSTART:20271107T060000
END:STANDARD
END:VTIMEZONE
BEGIN:VEVENT
DTSTART;TZID=America/New_York:20260429T183000
DTEND;TZID=America/New_York:20260429T200000
DTSTAMP:20260423T195849
CREATED:20260415T025150Z
LAST-MODIFIED:20260416T041652Z
UID:10003613-1777487400-1777492800@nycbrightest.com
SUMMARY:'WINE & DATE" 20'S & 30'S SPEED DATING!
DESCRIPTION:Join us for exclusive “Wine & Date”” Speed Dating event for N.Y.C. Singles in their 20’S and 30’S at MAMALI NYC! There are only 6 spots available for each gender in this exclusive dating experience! ALL LADIES WILL RECEIVE UNLIMITED POURS TABLESIDE POURS OF EXQUISITE WINES FROM 6:30 to 8:00 pm. There will be after party with additional singles & a complimentary raffle including both ladies and gentlemen for a high-end wine bottle that is valued at $100 retail at 9:00 pm. How it works: Ladies will sit and men will rotate! Each potential new couple will have 5 to 7 minutes of 1 on 1 conversation to see if there are chemistry and mental stimulation among each. Your match results will be delivered the next day! Early bird prices are limited and will raise without notice. This private curated event is sponsored by MAMALI NYC & NYC BRIGHTEST! \nWhat to expect: \n\nUnlimited delicious wine pours for ladies from 6:30 to 8:00 pm!\nA young beautiful crowd in their 20’s & 30’S age range.\nA optional afterparty with additional singles complimentary raffle for a $100 bottle of wine at 9 pm.\nDelicious food for purchase.\nFor men there is a 1 item $15 dollar minimum spend required at the venue.\nAmazing ambiance\, customer service and product!\nIf you are an essential worker\, please enter the promo code “wineanddate” for $ 2 off admission.\n\nAbout NYC BRIGHTEST: we implement private curated events such as wine/spirit tastings\, speed dating’s\, game nights\, singles/socials and networking in cool and chic venues\, please navigate below to… \nhttp://nycbrightest.com\, \nNYC BRIGHTEST SINGLES/SOCIAL CONNECTIONS \nUNIQUE SPEED DATING EVENTS! \nWine And Spirit Tastings by NYC Brightest! and follow NYC_Brightest on Instagram!
URL:https://nycbrightest.com/event/20s-30s-vine-affair-speed-dating/
LOCATION:MAMALI NYC\, 70 CHRISTOPHER STREET\, MANHATTAN\, NY\, 10014\, United States
ATTACH;FMTTYPE=image/jpeg:https://nycbrightest.com/wp-content/uploads/2026/04/wine-speed-dating-1.jpg
END:VEVENT
BEGIN:VEVENT
DTSTART;TZID=America/New_York:20260429T190000
DTEND;TZID=America/New_York:20260429T220000
DTSTAMP:20260423T195849
CREATED:20260415T014614Z
LAST-MODIFIED:20260415T015045Z
UID:10003612-1777489200-1777500000@nycbrightest.com
SUMMARY:"A VINE AFFAIR" EXCLUSIVE SINGLES EVENT!
DESCRIPTION:Join us for exclusive “Vine Affair” event for N.Y.C. Singles in their 20’S and 30’S at MAMALI NYC! ALL LADIES WILL RECEIVE UNLIMITED POURS OF EXQUISITE WINES FROM 7 to 8:30 pm. There will be a complimentary raffle including both ladies and gentlemen for a high-end wine bottle that is valued at $100 retail at 9:00 pm. “Mamali” a charming new cafe opening a few months ago\, is Georgian based with a weekly rotating exquisite wine list from all nations around the world. The food is fresh and delicious and has received a 4 and a half stars for customer service\, ambiance\, and product. There are only 25 spots available for this intimate experience as the general public will not be allowed. Early bird prices are limited and will raise without notice. This private curated event is sponsored by MAMALI NYC & NYC BRIGHTEST! \nWhat to expect: \n\nUnlimited delicious wine pours for ladies from 7 to 8:30 pm!\nA young beautiful crowd in their 20’s & 30’S age range.\nA complimentary raffle for a $100 bottle of wine at 9 pm.\nDelicious food for purchase.\nFor men there is a 1 item $15 dollar minimum spend required at the venue.\nAmazing ambiance\, customer service and product!\nIf you are an essential worker\, please enter the promo code “mamali” for $off admission.\n\nAbout NYC BRIGHTEST: we implement private curated events such as wine/spirit tastings\, speed dating’s\, game nights\, singles/socials and networking in cool and chic venues\, please navigate below to… \nhttp://nycbrightest.com\, \nNYC BRIGHTEST SINGLES/SOCIAL CONNECTIONS \nUNIQUE SPEED DATING EVENTS! \nWine And Spirit Tastings by NYC Brightest! and follow NYC_Brightest on Instagram!
URL:https://nycbrightest.com/event/a-vine-affair-exclusive-singles-event/
LOCATION:MAMALI NYC\, 70 CHRISTOPHER STREET\, MANHATTAN\, NY\, 10014\, United States
ATTACH;FMTTYPE=image/png:https://nycbrightest.com/wp-content/uploads/2026/04/vine-affair-singles-night.png
END:VEVENT
BEGIN:VEVENT
DTSTART;TZID=America/New_York:20260501T180000
DTEND;TZID=America/New_York:20260501T213000
DTSTAMP:20260423T195849
CREATED:20260416T030904Z
LAST-MODIFIED:20260416T030954Z
UID:10003618-1777658400-1777671000@nycbrightest.com
SUMMARY:N.Y.C. GAME NIGHT CONNECT!
DESCRIPTION:Join in on a personalized curated game night experience! Sugarmouse boasts 40 projection screens and is on of Manhattan’s only A.I. generated venues! Ladies will receive a complimentary beverage before 7 pm and everyone will have $2 off each drink courtesy of NYC BRIGHTEST & SUGARMOUSE. All patrons will enjoy complimentary billiards\, ping pong\, giant jenga until 9 PM\, while also enjoying a live DJ/Band later on during the experience! There is a 1 item min spend required at the venue except for ladies who redeem their complimentary beverage! This private ticketed event is sponsored by NYC BRIGHTEST & SUGARMOUSE! \nAbout NYC BRIGHTEST: we implement curated events such as wine/spirit tastings\, speed dating’s\,game nights\, singles/socials and networking in cool and chic venues\, please navigate below to.. \nhttp://nycbrightest.com\, \nNYC BRIGHTEST SINGLES/SOCIAL CONNECTIONS \nUNIQUE SPEED DATING EVENTS! \nWine And Spirit Tastings by NYC Brightest! and follow NYC_Brightest on Instagram!
URL:https://nycbrightest.com/event/n-y-c-game-night-connect/
LOCATION:SUGAR MOUSE NYC\, 47 3rd Avenue\, Manhattan\, NY\, 10003\, United States
ATTACH;FMTTYPE=image/jpeg:https://nycbrightest.com/wp-content/uploads/2026/02/sugarmouse.jpeg
END:VEVENT
BEGIN:VEVENT
DTSTART;TZID=America/New_York:20260501T183000
DTEND;TZID=America/New_York:20260501T200000
DTSTAMP:20260423T195849
CREATED:20260416T020813Z
LAST-MODIFIED:20260416T024149Z
UID:10003617-1777660200-1777665600@nycbrightest.com
SUMMARY:"MYSTERY SPEED DATING" A UNIQUE 20'S & 30'S SINGLES EVENT!
DESCRIPTION:Join us in a surprise mystery speed dating event exclusively for 20’S and 30’S singles. Experience mystery and romance in all in one evening! Ladies will be receive a comp drink before 7 pm and will be in control of the speed dating as the theme will surprise you! \nDuring the speed dating\, everyone will receive 1 on 1 personal connection time to determine if there is chemistry in a private vip room hidden within Sugarmouse\,. After the speed dating is finished\, you will have the option to stay for the after party in which everyone will receive  complimentary billiards\, ping pong\, additional discounted drinks and enjoy a dj/live band. Your match results will be emailed\, texted on Saturday afternoon. Sugarmouse is one of the few AI generated venues  in Manhattan. The design is chic yet comfortable. This private ticketed event is sponsored by NYC BRIGHTEST & SUGARMOUSE NYC! \nABOUT NYC BRIGHTEST: we implement a variety of high-quality diverse events such as unique themed wine and spirit tastings\, networking\, singles\, socials and speed dating in cool and chic venues! To view upcoming events\, please navigate to.. \nhttp://nycbrightest.com\,
URL:https://nycbrightest.com/event/mystery-speed-dating-a-unique-20s-30s-singles-event/
LOCATION:SUGAR MOUSE NYC\, 47 3rd Avenue\, Manhattan\, NY\, 10003\, United States
ATTACH;FMTTYPE=image/jpeg:https://nycbrightest.com/wp-content/uploads/2026/04/mystery-date1991.jpg
END:VEVENT
BEGIN:VEVENT
DTSTART;TZID=America/New_York:20260509T180000
DTEND;TZID=America/New_York:20260509T193000
DTSTAMP:20260423T195849
CREATED:20260420T025011Z
LAST-MODIFIED:20260420T034727Z
UID:10003623-1778349600-1778355000@nycbrightest.com
SUMMARY:CINCO de MAYO COCKTAIL TASTING@ROSA-AGAVE!
DESCRIPTION:Celebrate Cinco de Mayo with  vibrant tequila\, mezcal & sotol cocktails in a curated tasting event at Rosa Agave. Receiving a 5 out of 5 star rating across the board\, this venue serves incredible food\, amazing drinks in a beautiful space. Come experience what all the hype is about! This private ticketed event is sponsored by ROSA AGAVE & NYC BRIGHTEST! Early bird tickets are limited\, and not indicative of the event capacity. This will be a sell out! \nWhat awaits you: \n\nCheck in & meet and greet with fellow cocktail enthusiasts\, and the man himself Joe Cordero who curated the special menu from 6 to 6:20 pm.\n3 slightly smaller scaled specialty cinco de mayo cocktails only using the finest ingredients in a professional presentation from 6:30 to 7:30 pm .\nA complimentary after party!\nA beautiful space with reserved seating in which the general public will not be allowed.\nA price point that is unbeatable for an event of this caliber.\n\nABOUT NYC BRIGHTEST: we implement a variety of high-quality diverse events such as unique themed wine and spirit tastings\, networking\, singles\, socials and speed dating in cool and chic venues! To view upcoming events\, please navigate below \nhttp://nycbrightest.com\, \nNYC BRIGHTEST SINGLES/SOCIAL CONNECTIONS \nUNIQUE SPEED DATING EVENTS! \nWine And Spirit Tastings by NYC Brightest! and follow NYC_Brightest on Instagram!
URL:https://nycbrightest.com/event/cinco-de-mayo-cocktail-tastingrosa-agave/
LOCATION:ROSA-AGAVE & WINE LOUNGE\, 203 HUDSON STREET\, Manhattan\, NY\, 10013\, United States
ATTACH;FMTTYPE=image/jpeg:https://nycbrightest.com/wp-content/uploads/2026/04/cinco-demayo-tasting.jpg
END:VEVENT
BEGIN:VEVENT
DTSTART;TZID=America/New_York:20260509T190000
DTEND;TZID=America/New_York:20260509T203000
DTSTAMP:20260423T195849
CREATED:20260421T151223Z
LAST-MODIFIED:20260422T032335Z
UID:10003625-1778353200-1778358600@nycbrightest.com
SUMMARY:"SWEET SERENDIPITY" 20 & 30'S SPEED DATING!
DESCRIPTION:Join us for an amazing speed dating event and find love at beautiful Rosa -Agave! Let’s literally shuffle the deck\, roll the dice\, pick a card and have some fun! Ladies upon entry will receive complimentary drink. In addition\, ladies start with both possession of a deck of cards and a dice and will choose what mechanism/s to use for the whole speed dating and for each male participant!! Here is how it works: 1) your potential match sitting across from will shuffle the deck or roll the dice 2) Depending if a heart\, diamond\, club or spade is chosen\, or number with roll of the die\, there will be a set of questions and topics based on the symbol of the card and number picked or rolled! Example: if you choose a heart or roll a 1\, this will be a sweet affectionate type of question. A spade or 2 might be the opposite or trickery type of question! You will also have the option to design your own questions if you choose! Ladies if you want to participate without these mechanisms or unique twist you will also have the option to do so! There is a complimentary after party for those who sign on with additional singles until 12 am. This private ticketed event is sponsored by NYC BRIGHTEST AND ROSA-AGAVE The number of early bird priced tickets released are not indicative of event capacity! \n\n\nWhat to expect: \n\nUp to 30 beautiful young (20’s and 30’s) singles who are ready to become acquainted!\nComplimentary drink for ladies before 7:30 pm!\nComplimentary after party with additional singles.\nAs Rosa Agave-is waiving their rental fee and purchasing comp drinks for ladies\, a 1 item spend for ladies and 2 item spend for men is required at the venue!\nIf you are an essential worker\, please enter the promo code “sweet” for $2 off admission!\nUnbeatable prices for a high-quality speed dating with a complimentary after party!!\nYour matches delivered the next morning guaranteed by text or email.\n\nABOUT NYC BRIGHTEST: we implement a variety of high-quality diverse events such as unique themed wine and spirit tastings\, networking\, singles\, socials and speed dating in cool and chic venues! To view upcoming events\, please navigate to http://nycbrightest.com\,NYCBrightest on Eventbrite and nyc_brightest on Instagram.
URL:https://nycbrightest.com/event/sweet-serendipidty-20-30s-speed-dating/
LOCATION:ROSA-AGAVE & WINE LOUNGE\, 203 HUDSON STREET\, Manhattan\, NY\, 10013\, United States
ATTACH;FMTTYPE=image/jpeg:https://nycbrightest.com/wp-content/uploads/2026/01/9910bd8fe4e2e46310cb1ba840a7ab15-4d3tUm.tmp_.jpg
END:VEVENT
BEGIN:VEVENT
DTSTART;TZID=America/New_York:20260509T200000
DTEND;TZID=America/New_York:20260510T000000
DTSTAMP:20260423T195849
CREATED:20260420T035252Z
LAST-MODIFIED:20260420T035832Z
UID:10003624-1778356800-1778371200@nycbrightest.com
SUMMARY:N.Y.C. CINCO de MAYO SINGLES/SOCIAL!
DESCRIPTION:Celebrate Cinco de Mayo in style while making new special connections at Rosa-Agave! Known for its five-star ratings\, Rosa Agave offers an exceptional blend of incredible food\, delicious drinks\, and a stunning atmosphere. Ladies will receive a complimentary drink of choice before 9 pm and there will be exclusive Cinco de mayo specialty cocktails the whole evening. This private\, ticketed event sponsored by ROSA AGAVE and NYC BRIGHTEST. \nWhat awaits you: \n\nA beautiful crowd of young singles & socialites ready to mingle and party!\nLadies receive a comp drink of choice before 9 pm.\nSpecialty Cinco de Mayo cocktails on discount the whole evening.\nSpecial Cinco de Mayo activities planned through out the evening!\nA most vibrant atmosphere with beautiful ambiance\, customer service\, and last but not least excellent drinks and food.\nDress code: ladies look your best. men: dress to impress.\nAs Rosa-Agave is waiving their $rental fee\, a 1 item minimum spend for ladies\, & a 2 item minimum spend is required for men at the venue!\n\nTickets are limited and expected to sell out quickly\, so secure your spot early for a night filled with great drinks\, great company\, and great vibes. Don’t miss this chance to experience the hype yourself!
URL:https://nycbrightest.com/event/cinco-de-mayo-celebration-for-singles-socialites/
LOCATION:ROSA-AGAVE & WINE LOUNGE\, 203 HUDSON STREET\, Manhattan\, NY\, 10013\, United States
ATTACH;FMTTYPE=image/jpeg:https://nycbrightest.com/wp-content/uploads/2026/04/cinco-de-mayo-singles.jpg
END:VEVENT
BEGIN:VEVENT
DTSTART;TZID=America/New_York:20260515T183000
DTEND;TZID=America/New_York:20260515T200000
DTSTAMP:20260423T195849
CREATED:20260420T011810Z
LAST-MODIFIED:20260420T041226Z
UID:10003622-1778869800-1778875200@nycbrightest.com
SUMMARY:"LOVE" IS IT REALLY BLIND? 20'S & 30'S SPEED DATING!
DESCRIPTION:Hey\, you like who you like! You love who you love! The heart does not see the flaws\, just the beauty in all the flaws. Here is how it will work: Ladies will first have girlfriend connect time bonding with their fellow speed daters conversating over complimentary cocktails! Gentleman will bond with their fellow male speed daters over complimentary pool and ping pong in a private separated from the ladies. Speed dating will then begin! The men will be donning a blind fold the entire speed dating\, while the ladies will rotate for each round. For ladies and men\, there will be special optional questions in regard to “LOVE” IS IT REALLY BLIND? in order to heighten the experience\, but it is not mandatory! After the speed dating\, the genders will be separated once more while the matches are selected and then handed in! There will be a complimentary after party in which everyone can mix and mingle over complimentary pool\, ping pong\, giant jenga and other cool games\, and for those who will sign on\, you will have a special happy hour only available to your fellow speed daters! Your matches will be emailed to you the next morning with the option to leave your contact number in addition to email. Early bird prices are limited\, and the number of tickets released is not indicative of the event capacity! This private ticketed event is sponsored by NYC BRIGHTEST & SOURMOUSE NYC. \nWhat awaits you: \n\nA fun and interactive new speed dating concept!\nSpeed dating comes with a comp drink for ladies before 7 pm!\nGirlfriends connect time with complimentary drinks pre speed dating!\nGentleman connect time before 7 pm with complimentary billiards and ping pong. A 1 item purchase is required for men. There will be a special happy hour for every one until 9:30 pm!\nDuring the speed dating\, gentleman will be blind folded\, and ladies will rotate and talk to each male participant!\nIf you are an essential worker\, please enter the promo code “loveisitreallyblind” for $2 off admission!\nComplimentary after party in which everyone can connect over complimentary billiards\, ping pong and other cool games!\nA live dj/band after speed dating ends!\n\nABOUT NYC BRIGHTEST: we implement a variety of high-quality diverse events such as unique themed wine and spirit tastings\, networking\, singles\, socials and speed dating in cool and chic venues! To view upcoming events\, please navigate below \nhttp://nycbrightest.com\, \nNYC BRIGHTEST SINGLES/SOCIAL CONNECTIONS \nUNIQUE SPEED DATING EVENTS! \nWine And Spirit Tastings by NYC Brightest! and follow NYC_Brightest on Instagram!
URL:https://nycbrightest.com/event/love-is-it-really-blind-20s-30s-speed-dating-6/
LOCATION:SUGAR MOUSE NYC\, 47 3rd Avenue\, Manhattan\, NY\, 10003\, United States
ATTACH;FMTTYPE=image/jpeg:https://nycbrightest.com/wp-content/uploads/2026/01/0a7cc98b3d113cec61002915ccbd61a9-WgmQNq.tmp_.jpg
END:VEVENT
BEGIN:VEVENT
DTSTART;TZID=America/New_York:20260521T183000
DTEND;TZID=America/New_York:20260521T203000
DTSTAMP:20260423T195849
CREATED:20260412T233348Z
LAST-MODIFIED:20260421T145323Z
UID:10003609-1779388200-1779395400@nycbrightest.com
SUMMARY:"WOMAN OF COLOR & THE MEN WHO ADMIRE THEM" SPEED DATING!
DESCRIPTION:Join us for “WOMAN OF COLOR” SPEED DATING EVENT FOR SINGLES AGES 25-45! On Thursday\, April 23\,  starting at 6:30 PM\, meet your special connection at The Cloud One Lounge\, New York-Downtown.  Meet your special someone in an unforgettable atmosphere featuring breathtaking views\, exceptional customer service\, and a stylish penthouse setting that embodies the best of NYC nightlife. There will be a live DJ starting at 6:30 pm to set the vibe. This private ticketed event is sponsored by NYC BRIGHTEST & CLOUD ONE LOUNGE! \nHOW IT WORKS: Ladies will sit and men will rotate. Everyone will have 5 minutes of personal 1 on 1 conversations to see if you align with the person sitting across from you. At the end the speed dating\, ladies and gentleman will separate \,in which you will select your matches. The match sheets will be collected and you will receive your match results that very evening. There will be a complimentary post mingle until 9:00 pm. \nLadies of color will enjoy unlimited delicious rosé wine pours exclusively from 6:30 to 7:30 pm. Following this\, ladies can savor a complimentary Cloud One Signature champagne cocktail before 8:30 PM\, all with no minimum spend. Your match results will be delivered that same evening after the event via text or email! \nWHAT TO EXPECT: \n  \n\nComplimentary unlimited rosé wine pours for ladies from 6:30 to 7:30 PM.\nA complimentary signature champagne cocktail for ladies at 8:30 pm post mingle.\nSpeed Dating will begin at 7 pm as please arrive at the starting time!\nDress to impress: Ladies\, bring your best look! Gentlemen\, please wear nice shoes\, a clean shirt\, and pants to match the venue’s upscale vibe.\nAn exceptional value entry price—early bird tickets available now. A live DJ for the duration of the event!\nA $20 two-item minimum spend applies to men\, with menu prices that are reasonable and competitive for a venue of this caliber.\n\nThis exclusive event is proudly sponsored by NYC BRIGHTEST and Cloud One Wine Bar/Lounge & Penthouse. NYC BRIGHTEST curates a variety of quality events including themed wine and spirit tastings\, networking socials\, singles mixers\, and speed dating in the city’s most stylish venues. To explore more upcoming events\, visit http://nycbrightest.com\, find us on Eventbrite as NYCBrightest\, or follow nyc_brightest on Instagram.
URL:https://nycbrightest.com/event/an-exclusivewoman-of-color-the-men-who-love-them-speed-dating-event/
LOCATION:The Cloud One Lounge New York-Downtown\, 133 Greenwich Street\, New York\, NY\, 10006\, United States
ATTACH;FMTTYPE=image/jpeg:https://nycbrightest.com/wp-content/uploads/2026/03/young-speed.jpeg
END:VEVENT
BEGIN:VEVENT
DTSTART;TZID=America/New_York:20260521T190000
DTEND;TZID=America/New_York:20260521T210000
DTSTAMP:20260423T195849
CREATED:20260413T030644Z
LAST-MODIFIED:20260421T145450Z
UID:10003610-1779390000-1779397200@nycbrightest.com
SUMMARY:"THE ART OF THE MIX" COCKTAIL TASTING EXPERIENCE @CLOUD ONE!
DESCRIPTION:Enjoy Cloud One’s first ever cocktail tasting! The Cloud One Lounge New York Downtown is a masterpiece of sophistication and flavor\, offering an experience that rivals the best in the city! The ambiance of the lounge located on the 6th floor is unparalleled. Floor to ceiling windows with a beautiful outdoor sundeck offer stunning views of downtown Manhattan creating the perfect backdrop of your evening. The lounge is chic\, intimate and buzzing with energy! Let’s talk about the drinks! The cocktail menu is a work of art\, from timeless classics to unique concoctions that push the boundaries of mixology! There will be a complimentary welcome cocktail and a live DJ for everyone! This private ticketed event is sponsored by THE CLOUD ONE LOUNGE & NYC BRIGHTEST! The amount of early bird tickets released is not indicative of the event capacity! \nWhat to expect: \n\nMeet and greet and check in at 7 pm.\nA welcome cloud one signature cocktail before 7:30 pm.\n3 slightly smaller scaled delicious cocktails specifically created for this event in a professional presentation from 7:30 to 9:00 pm.\nSpectacular views\, ambiance\, and a live DJ for your listening and potential dancing pleasure.\nDress code: Ladies dress to impress. Men: business casual\, with nice shoes\, clean pants and dress shirt suggested. No tee shirts\, sneakers and caps will be allowed.\n\nABOUT NYC BRIGHTEST: we implement a variety of high-quality diverse events such as unique themed wine and spirit tastings\, networking\, singles\, socials and speed dating in cool and chic venues! To view upcoming events\, please navigate to http://nycbrightest.com\,NYCBrightest on eventbrite and nyc_brightest on Instagra
URL:https://nycbrightest.com/event/cocktail-excellence-the-art-of-the-mix-tasting-experience-cloud-one/
LOCATION:The Cloud One Lounge New York-Downtown\, 133 Greenwich Street\, New York\, NY\, 10006\, United States
ATTACH;FMTTYPE=image/jpeg:https://nycbrightest.com/wp-content/uploads/2025/11/cocktail-tasting-3.jpg
END:VEVENT
END:VCALENDAR