BEGIN:VCALENDAR
VERSION:2.0
PRODID:-//New York City&#039;s Brightest - ECPv6.15.18//NONSGML v1.0//EN
CALSCALE:GREGORIAN
METHOD:PUBLISH
X-WR-CALNAME:New York City&#039;s Brightest
X-ORIGINAL-URL:https://nycbrightest.com
X-WR-CALDESC:Events for New York City&#039;s Brightest
REFRESH-INTERVAL;VALUE=DURATION:PT1H
X-Robots-Tag:noindex
X-PUBLISHED-TTL:PT1H
BEGIN:VTIMEZONE
TZID:America/New_York
BEGIN:DAYLIGHT
TZOFFSETFROM:-0500
TZOFFSETTO:-0400
TZNAME:EDT
DTSTART:20250309T070000
END:DAYLIGHT
BEGIN:STANDARD
TZOFFSETFROM:-0400
TZOFFSETTO:-0500
TZNAME:EST
DTSTART:20251102T060000
END:STANDARD
BEGIN:DAYLIGHT
TZOFFSETFROM:-0500
TZOFFSETTO:-0400
TZNAME:EDT
DTSTART:20260308T070000
END:DAYLIGHT
BEGIN:STANDARD
TZOFFSETFROM:-0400
TZOFFSETTO:-0500
TZNAME:EST
DTSTART:20261101T060000
END:STANDARD
BEGIN:DAYLIGHT
TZOFFSETFROM:-0500
TZOFFSETTO:-0400
TZNAME:EDT
DTSTART:20270314T070000
END:DAYLIGHT
BEGIN:STANDARD
TZOFFSETFROM:-0400
TZOFFSETTO:-0500
TZNAME:EST
DTSTART:20271107T060000
END:STANDARD
END:VTIMEZONE
BEGIN:VEVENT
DTSTART;TZID=America/New_York:20260123T183000
DTEND;TZID=America/New_York:20260123T200000
DTSTAMP:20260423T231816
CREATED:20260107T042139Z
LAST-MODIFIED:20260107T042139Z
UID:10003489-1769193000-1769198400@nycbrightest.com
SUMMARY:N.Y.C "NICE TO MEET YOU" 40'S & 50'S SPEED DATING!
DESCRIPTION:Meet your new love interest in the beginning of the new year!\n\n\nCome on out and meet other singles in a nice casual atmosphere after a long week at work and meet your new love interest in the beginning of 2026!! Ladies will sit and men will rotate and have 1 on 1 5-minute conversations to gauge the chemistry and mental stimulation! You will receive your match results the next day! \nThe ages of the participants who are 40’S & 50’S! You must be in this age range to participate! There will be fun & thoughtful icebreakers to stimulate engaging conversation! If you are an essential worker\, please enter the promo code “newyear”for $2 off admission! \nThis is an NYC BRIGHTEST partner event which is well organized and in a great venue. Please note that this is private ticketed event only! \nABOUT NYC BRIGHTEST: we implement a variety of high-quality diverse events such as unique themed wine and spirit tastings\, networking\, singles\, socials and speed dating in cool and chic venues! To view upcoming events\, please navigate to [http://nycbrightest.com]()\,NYCBrightest on Eventbrite and nyc_brightest on Instagram.
URL:https://nycbrightest.com/event/n-y-c-nice-to-meet-you-40s-50s-speed-dating/
LOCATION:THE WESTBURY\, 20 WEST 38th STREET\, Manhattan\, NY\, 10018\, United States
ATTACH;FMTTYPE=image/jpeg:https://nycbrightest.com/wp-content/uploads/2026/01/164e097f13c63857d05cdd5c49e2b844-W6vZlb.tmp_.jpg
END:VEVENT
END:VCALENDAR