BEGIN:VCALENDAR
VERSION:2.0
PRODID:-//New York City&#039;s Brightest - ECPv6.15.18//NONSGML v1.0//EN
CALSCALE:GREGORIAN
METHOD:PUBLISH
X-WR-CALNAME:New York City&#039;s Brightest
X-ORIGINAL-URL:https://nycbrightest.com
X-WR-CALDESC:Events for New York City&#039;s Brightest
REFRESH-INTERVAL;VALUE=DURATION:PT1H
X-Robots-Tag:noindex
X-PUBLISHED-TTL:PT1H
BEGIN:VTIMEZONE
TZID:America/New_York
BEGIN:DAYLIGHT
TZOFFSETFROM:-0500
TZOFFSETTO:-0400
TZNAME:EDT
DTSTART:20250309T070000
END:DAYLIGHT
BEGIN:STANDARD
TZOFFSETFROM:-0400
TZOFFSETTO:-0500
TZNAME:EST
DTSTART:20251102T060000
END:STANDARD
BEGIN:DAYLIGHT
TZOFFSETFROM:-0500
TZOFFSETTO:-0400
TZNAME:EDT
DTSTART:20260308T070000
END:DAYLIGHT
BEGIN:STANDARD
TZOFFSETFROM:-0400
TZOFFSETTO:-0500
TZNAME:EST
DTSTART:20261101T060000
END:STANDARD
BEGIN:DAYLIGHT
TZOFFSETFROM:-0500
TZOFFSETTO:-0400
TZNAME:EDT
DTSTART:20270314T070000
END:DAYLIGHT
BEGIN:STANDARD
TZOFFSETFROM:-0400
TZOFFSETTO:-0500
TZNAME:EST
DTSTART:20271107T060000
END:STANDARD
END:VTIMEZONE
BEGIN:VEVENT
DTSTART;TZID=America/New_York:20260123T183000
DTEND;TZID=America/New_York:20260123T220000
DTSTAMP:20260424T111100
CREATED:20260105T034919Z
LAST-MODIFIED:20260105T034919Z
UID:10003484-1769193000-1769205600@nycbrightest.com
SUMMARY:GAME NIGHT "GETAWAY" CASUAL SINGLES & SOCIAL CONNECT!
DESCRIPTION:Join in and connect with new people in 2026 in a casual & comfortable venue!\n\n\nJoin us with complimentary billiards\, ping pong\, Giant Jenga and much more in a great atmosphere and venue! All ladies will receive a complimentary drink before a 7 pm arrival time! Amazing drink specials and a special secret happy hour just for us the whole evening! There will be a live DJ later in the evening! This private ticketed event is sponsored by NYC BRIGHTEST & SOURMOUSE NYC! \nWHAT TO EXPECT: \n\nComplimentary billiards\, ping pong for the duration of the event which are ($25 to 40 per hour rental per table) and all sorts of games for our attendees from 6:30 to 10 pm!\nLadies will receive a comp drink before 7 pm! Amazing drink specials and a special secret happy hour just for us the whole evening.\nA live Dj/band later in the evening! If you are an essential worker\, please enter the promo code “getaway” for $2 off admission! A 1 item min purchase is required for each person.\n\nABOUT NYC BRIGHTEST: we implement a variety of high-quality diverse events such as unique themed wine and spirit tastings\, networking\, singles\, socials and speed dating in cool and chic venues! To view upcoming events\, please navigate to \nNYC BRIGHTEST SINGLES/SOCIAL CONNECTIONS \nUNIQUE SPEED DATING EVENTS! \nWine And Spirit Tastings by NYC Brightest! \nand follow NYC_Brightest on Instagram!
URL:https://nycbrightest.com/event/game-night-getaway-casual-singles-social-connect-2/
LOCATION:Sour Mouse\, 110 Delancey Street\, New York\, NY\, 10002\, United States
ATTACH;FMTTYPE=image/jpeg:https://nycbrightest.com/wp-content/uploads/2026/01/dfd52940265bef162cad329f103df136-CP6Nxd.tmp_.jpg
END:VEVENT
END:VCALENDAR