BEGIN:VCALENDAR
VERSION:2.0
PRODID:-//New York City&#039;s Brightest - ECPv6.15.18//NONSGML v1.0//EN
CALSCALE:GREGORIAN
METHOD:PUBLISH
X-ORIGINAL-URL:https://nycbrightest.com
X-WR-CALDESC:Events for New York City&#039;s Brightest
REFRESH-INTERVAL;VALUE=DURATION:PT1H
X-Robots-Tag:noindex
X-PUBLISHED-TTL:PT1H
BEGIN:VTIMEZONE
TZID:America/New_York
BEGIN:DAYLIGHT
TZOFFSETFROM:-0500
TZOFFSETTO:-0400
TZNAME:EDT
DTSTART:20250309T070000
END:DAYLIGHT
BEGIN:STANDARD
TZOFFSETFROM:-0400
TZOFFSETTO:-0500
TZNAME:EST
DTSTART:20251102T060000
END:STANDARD
BEGIN:DAYLIGHT
TZOFFSETFROM:-0500
TZOFFSETTO:-0400
TZNAME:EDT
DTSTART:20260308T070000
END:DAYLIGHT
BEGIN:STANDARD
TZOFFSETFROM:-0400
TZOFFSETTO:-0500
TZNAME:EST
DTSTART:20261101T060000
END:STANDARD
BEGIN:DAYLIGHT
TZOFFSETFROM:-0500
TZOFFSETTO:-0400
TZNAME:EDT
DTSTART:20270314T070000
END:DAYLIGHT
BEGIN:STANDARD
TZOFFSETFROM:-0400
TZOFFSETTO:-0500
TZNAME:EST
DTSTART:20271107T060000
END:STANDARD
END:VTIMEZONE
BEGIN:VEVENT
DTSTART;TZID=America/New_York:20260424T183000
DTEND;TZID=America/New_York:20260424T213000
DTSTAMP:20260423T165841
CREATED:20260420T003734Z
LAST-MODIFIED:20260420T010142Z
UID:10003621-1777055400-1777066200@nycbrightest.com
SUMMARY:N.Y.C. 40'S & OVER "NICE TO MEET YOU" CONNECT FOR SINGLES & SOCIALITIES!
DESCRIPTION:Join us for our 40+ After Party at the upscale Empire Rooftop overlooking Lincoln Center! Staff will be on hand to welcome you and get you socializing in meaningful ways. We expect up to 70 people and friends ages 40+. The number of early bird tickets are not indicative of the event capacity! If it happens to rain\, we will be in the large inside lounge! \nThis is a NYC Brightest Partner event which is enjoyable\, well organized and in a great venue! The first 3 people who sign on please enter the promo code”empire” for $5 off at check out. If you are an essential worker\, please enter the promo code “nicetomeetyou” for $2 off admission. For all upcoming events\, including unique wine/spirit tastings\, unique networking\, social/single and speed dating in classy and chic venues\, please navigate to http://nycbrightest.com\,NYCBrightest on Eventbrite and nyc_brightest on Instagram. \nWhat to expect: \n\nWe will have several rounds of ice breakers that will connect you with others.\nHosts on hand to welcome you and introduce you to others at the event.\nUp to 60 singles & socialites coming together to mix\, mingle\, network and connect ages 40+\nMusic played at conversational levels.\n\nCost: $25 or higher at the door or online after 4 pm the day of for everyone. \nIs this for singles? This is for anyone looking to connect with others. We will have one color dedicated to “singles” so you can see who the other singles are. \nAges: 40+ \nCan I come alone? Yes\, most guests do! It’s a great way to meet new people. \nDress: Smart casual/neat \nQuestions? email info@nycbrightest.com\, M-F 10 am to 4 pm.
URL:https://nycbrightest.com/event/n-y-c-40s-over-connect-for-singles-socialities/
LOCATION:The Empire Hotel\, 44 West 63rd Street\, New York\, NY\, 10023\, United States
ATTACH;FMTTYPE=image/jpeg:https://nycbrightest.com/wp-content/uploads/2026/01/d2f79aa6c1e8c879b1574eb11fd88e62-Xsxh9q.tmp_.jpg
END:VEVENT
BEGIN:VEVENT
DTSTART;TZID=America/New_York:20260424T183000
DTEND;TZID=America/New_York:20260424T223000
DTSTAMP:20260423T165841
CREATED:20260412T211634Z
LAST-MODIFIED:20260422T015646Z
UID:10003608-1777055400-1777069800@nycbrightest.com
SUMMARY:"CITY SOUNDS & SUNSET VIEWS" CHIC PENTHOUSE CONNECT FOR SINGLES & SOCIALTIES!
DESCRIPTION:Join us for CHIC PENTHOUSE SINGLES/SOCIAL! On Friday\, April 24\, 2026\, starting at 6:30 PM\, experience a vibrant evening designed especially for singles and socialites at The Cloud One Lounge\, New York-Downtown. Immerse yourself in an unforgettable atmosphere featuring breathtaking views\, exceptional customer service\, and a stylish penthouse setting that embodies the best of NYC nightlife. \nEnjoy complimentary signature cocktails and unlimited delicious rosé wine exclusively for ladies from 6:30 to 7:30 PM. Following this\, ladies can savor a complimentary Cloud One signature champagne cocktail before 8:30 PM. The night will be enhanced by live entertainment from a talented mystery singers\, setting the perfect mood for mingling and making new connections. \nWhat to expect: \n\nMeet and mingle with up to 60 singles and socialites in a chic\, intimate venue.\nComplimentary unlimited rosé wine pours for ladies from 6:30 to 7:30 PM.\nA complimentary signature champagne cocktail for ladies before 8:30 PM.\nLive performances by talented mystery singers throughout the evening.\nDress to impress: Ladies\, bring your best look! Gentlemen\, please wear nice shoes\, a clean shirt\, and pants to match the venue’s upscale vibe.\nAn exceptional value entry price—early bird tickets available now. Prices will increase\, and tickets at the door start at $30.\nAs Cloud One is waiving their $large rental fee\, a 1 item minimum spend for ladies and a two-item minimum spend applies to men\, with menu prices that are reasonable and competitive for a venue of this caliber.\n\nThis exclusive event is proudly sponsored by NYC BRIGHTEST and Cloud One Wine Bar/Lounge & Penthouse. NYC BRIGHTEST curates a variety of quality events including themed wine and spirit tastings\, networking socials\, singles mixers\, and speed dating in the city’s most stylish venues. To explore more upcoming events\, visit http://nycbrightest.com\, find us on Eventbrite as NYCBrightest\, or follow nyc_brightest on Instagram. \nDon’t miss your chance to be part of this sophisticated and social evening—reserve your spot today and get ready to “ROSE ALL DAY” in style!
URL:https://nycbrightest.com/event/rose-all-daychic-penthouse-singles-social/
LOCATION:CLOUD ONE!
ATTACH;FMTTYPE=image/jpeg:https://nycbrightest.com/wp-content/uploads/2026/02/cover-photo.jpeg
END:VEVENT
BEGIN:VEVENT
DTSTART;TZID=America/New_York:20260424T190000
DTEND;TZID=America/New_York:20260424T203000
DTSTAMP:20260423T165841
CREATED:20260414T021359Z
LAST-MODIFIED:20260414T025711Z
UID:10003611-1777057200-1777062600@nycbrightest.com
SUMMARY:30'S & 40'S "TRUE COMPATIBILITY" SPEED DATING!
DESCRIPTION:Join NYC BRIGHTEST & THE BEAUTIFUL CLOUD ONE LOUNGE for a most enjoyable and unique speed dating event for singles who are in their 30’S and 40’S! Lets’ skip the small talk and share our unbiased personal opinions on some interesting dating topics and beyond! The idea is to accelerate finding compatibility by being your true authentic self! How it works: Ladies will receive a complimentary drink and rose wine before a 7:30 pm arrival time! During the speed dating\, ladies will sit and men will rotate! At the beginning of each round\, there will be a question/topic in which each participant will offer their “hot take” on the subject matter and question posed! As you sit across from your new potential match\, each person will be allotted a 1-minute timed window to offer your personal opinion/viewpoint\, and then both participants will have 3 minutes to ask further clarifying questions and or “debate” on the matter in a respectful lighthearted conversation! Your matches will be delivered the next day via text/email! There will be will be an after party until 10:30 pm as you will enjoy live entertainment. Please view ticket options when checking out! This private ticketed event is sponsored by NYC BRIGHTEST & CLOUD ONE! \nWHAT TO EXPECT: \n\nA new and innovative speed dating concept which accelerates true compatibility!\nLadies will receive a complimentary drink and or rose wine upon entry before 7:30 pm arrival!\nThe ages of the speed dating will be eligible singles who are in their 30’s & 40’S and will begin at 7 pm!!\nAs CLOUD ONE is waiving their large rental fee\, providing comp drinks for ladies\, a 1 item min spend for ladies & 2-item minimum spend is required for men at the venue.\nYour matches delivered the next day via email or text!\nOptional amazing wine tasting for a small additional fee directly after the event. Please view ticket options at check out.\nAs Cloud One has amazing ambiance and product\, ladies please dress to impress: Men: nice clean pants\, shirt\, shoes required as the suggested attire is smart casual(what you would wear to a nice dinner outing!)\n\nABOUT NYC BRIGHTEST: we implement a variety of high-quality diverse events such as unique themed wine and spirit tastings\, networking\, singles\, socials and speed dating in cool and chic venues! To view upcoming events\, please navigate to http://nycbrightest.com
URL:https://nycbrightest.com/event/true-compatabilityspeed-dating/
LOCATION:The Cloud One Lounge New York-Downtown\, 133 Greenwich Street\, New York\, NY\, 10006\, United States
ATTACH;FMTTYPE=image/jpeg:https://nycbrightest.com/wp-content/uploads/2026/02/40s-and-over-new.jpeg
END:VEVENT
BEGIN:VEVENT
DTSTART;TZID=America/New_York:20260424T200000
DTEND;TZID=America/New_York:20260424T220000
DTSTAMP:20260423T165841
CREATED:20260422T211357Z
LAST-MODIFIED:20260422T211555Z
UID:10003628-1777060800-1777068000@nycbrightest.com
SUMMARY:DATE & PLAY SPEED DATING!
DESCRIPTION:A DATE & PLAY speed dating event is a unique and enjoyable event in which you will meet your new love interest while making new friends. Our friendly host will welcome everyone and then you’ll be grouped off into separate tables where you’ll get to meet\, chat with and play fun social games with other singles in small groups of about 4 or 5 people. Then\, similar to traditional speed dating\, you’ll rotate from table to table getting a chance to meet all the other singles in attendance. You’ll be handed a “match sheet” and at the end of the event you’ll be able to indicate people you’d like to talk to again in the future. \nIf they also choose you\, our host will send you each other’s contact information within about 24 hours after the event and you can feel free to set up a date with them. You’ll enjoy an evening of meeting new people\, fun social interactions and games… No skill necessary\, just a bit of luck! Our friendly host will be orchestrating the event and making introductions among the group. You’ll participate in several games during the evening while getting a chance to interact with everyone! \nThis is an NYC BRIGHTEST partner event which is well organized and in a great venue. Please note that this is private ticketed event only! \nAbout NYC BRIGHTEST: we implement curated events such as wine/spirit tastings\, speed dating’s\, game nights\, singles/socials and networking in cool and chic venues\, please navigate below to.. \nhttp://nycbrightest.com\, \nNYC BRIGHTEST SINGLES/SOCIAL CONNECTIONS \nUNIQUE SPEED DATING EVENTS! \nWine And Spirit Tastings by NYC Brightest! and follow NYC_Brightest on Instagram! \nWHAT GAMES WILL WE BE PLAYING? They are simple but extremely fun games that don’t require much skill… they are mostly fun games of luck and chance to get the crowd mingling and having a good time. The fun games are set up to break the ice\, help you gauge compatibility and make quality connections. Some of the games are similar to the most popular party games\, others are like casino games that involve rolling dice and some are a little bit different\, but we assure you… they are really\, really fun and you don’t need to know how to play anything in particular (ie. we won’t be playing blackjack or poker or anything like that). \nAn example game we sometimes like to play is “Dating Feud” which is similar to the popular prime time TV show we all know. In this game you and your dates will be asked fun relationship style questions like\, “Name a gift that women love men to give them”. You will work together with a small group of singles to come up with what you think is the most popular answer and then you’ll find out if you got the top answer. Another game we play is “Would You Rather” where we ask you fun questions like “Would you rather live the rest of your life without ever being able to watch and movie/TV show or would you rather never be able to listen to any song/music again?”. You answer the question and then you have to try and pick the most popular answer. FAQ: What is the age range? 20’S\,30’S\,40’S. WHY IT WORKS! Through the years we’ve organized many speed dating events. We had a host that would sometimes invite the guests to stay around if they wanted to after the event to play some games. She would bring some fun interactive games and casino type games of chance/luck with her. We noticed something fascinating start to happen! More people would make connections at the games after the event than at the actual speed dating! That led us to creating this event. It’s the perfect way to meet people in this busy city! \nABOUT NYC BRIGHTEST: we implement a variety of high-quality diverse events such as unique themed wine and spirit tastings\, networking\, singles\, socials and speed dating in cool and chic venues! To view upcoming events\, please navigate to http://nycbrightest.com\,NYCBrightest on Eventbrite and nyc_brightest on Instagram.
URL:https://nycbrightest.com/event/date-play-speed-dating-4/
LOCATION:THE WESTBURY\, 20 WEST 38th STREET\, Manhattan\, NY\, 10018\, United States
ATTACH;FMTTYPE=image/jpeg:https://nycbrightest.com/wp-content/uploads/2026/03/date-and-play.jpeg
END:VEVENT
BEGIN:VEVENT
DTSTART;TZID=America/New_York:20260425T200000
DTEND;TZID=America/New_York:20260425T220000
DTSTAMP:20260423T165841
CREATED:20260422T184148Z
LAST-MODIFIED:20260422T184725Z
UID:10003627-1777147200-1777154400@nycbrightest.com
SUMMARY:DATING GAMES SPEED DATING!
DESCRIPTION:Our friendly host will welcome everyone and then you’ll be grouped off into separate tables where you’ll get to meet\, chat with and play fun social games with other singles in small groups of about 4 or 5 people. The games are super easy\, really fun and designed to help you get to know everyone! Then\, similar to traditional speed dating\, you’ll rotate from table to table getting a chance to meet all the other singles in attendance. You’ll be handed a “match sheet” and at the end of the event you’ll be able to indicate people you’d like to talk to again in the future. If they also choose you\, our host will send you each other’s contact information within about 24 hours after the event and you can feel free to set up a date with them. QUICK NOTE – PLEASE ARRIVE ON TIME. WE START THE EVENT PROMPTLY AT 8:15 PM. This is entirely new and revolutionary type of speed dating event! We love the idea of traditional speed dating but sometimes it’s hard to come up with things to talk about. That’s why at a “Dating Games” Speed Dating it will be easier to make connections! \nYou’ll enjoy an evening of meeting new people\, fun social interactions and games… No skill necessary\, just a bit of luck! THIS IS A PRE-PAY ONLY EVENT. YOU HAVE TO PURCHASE YOUR TICKETS HERE IN ADVANCE ONLINE. \nABOUT NYC BRIGHTEST: we implement a variety of high-quality diverse events such as unique themed wine and spirit tastings\, networking\, singles\, socials and speed dating in cool and chic venues! To view upcoming events\, please navigate below. \nhttp://nycbrightest.com\, \nNYC BRIGHTEST SINGLES/SOCIAL CONNECTIONS \nUNIQUE SPEED DATING EVENTS! \nWine And Spirit Tastings by NYC Brightest! \nand follow NYC_Brightest on Instagram! \n** Suggested age range is 20s\, 30s & 40s ** Our friendly host will welcome everyone and then you’ll be grouped off into separate tables where you’ll get to meet\, chat with and play fun social games with other singles in small groups of about 4 or 5 people. The games are super easy\, really fun and designed to help you get to know everyone! Then\, similar to traditional speed dating\, you’ll rotate from table to table getting a chance to meet all the other singles in attendance. You’ll be handed a “match sheet” and at the end of the event you’ll be able to indicate people you’d like to talk to again in the future \n. If they also choose you\, our host will send you each other’s contact information within about 24 hours after the event and you can feel free to set up a date with them. QUICK NOTE – PLEASE ARRIVE ON TIME. WE START THE EVENT PROMPTLY AT 8:00 PM. This is entirely new and revolutionary type of speed dating event! We love the idea of traditional speed dating but sometimes it’s hard to come up with things to talk about. That’s why at a “Dating Games” Speed Dating event you’ll have fun\, easy games to play to get to know everyone instead of dealing with the usual dating “job interview” type questions. We find that it’s a much better way to get to know someone! WIN PRIZES!!! You’ll enjoy an evening of meeting new people\, fun social interactions and games! \nWHY IT WORKS! Through the years we’ve organized many speed dating events. We noticed something fascinating start to happen! More people would make connections at the games after the event than at the actual speed dating! That led us to creating this event. It’s the perfect way to meet people in this busy city! \nWHAT GAMES WILL WE BE PLAYING? They are simple but extremely fun games that don’t require much skill… they are mostly fun games to get the crowd mingling and having a good time. The fun games are set up to break the ice\, help you gauge compatibility and make quality connections.
URL:https://nycbrightest.com/event/dating-games-speed-dating-4/
LOCATION:Dawson 39 Restaurant & Bar\, 54 West 39th Street\, New York\, NY\, 10018\, United States
ATTACH;FMTTYPE=image/jpeg:https://nycbrightest.com/wp-content/uploads/2026/03/dating-games.jpeg
END:VEVENT
BEGIN:VEVENT
DTSTART;TZID=America/New_York:20260429T183000
DTEND;TZID=America/New_York:20260429T200000
DTSTAMP:20260423T165841
CREATED:20260415T025150Z
LAST-MODIFIED:20260416T041652Z
UID:10003613-1777487400-1777492800@nycbrightest.com
SUMMARY:'WINE & DATE" 20'S & 30'S SPEED DATING!
DESCRIPTION:Join us for exclusive “Wine & Date”” Speed Dating event for N.Y.C. Singles in their 20’S and 30’S at MAMALI NYC! There are only 6 spots available for each gender in this exclusive dating experience! ALL LADIES WILL RECEIVE UNLIMITED POURS TABLESIDE POURS OF EXQUISITE WINES FROM 6:30 to 8:00 pm. There will be after party with additional singles & a complimentary raffle including both ladies and gentlemen for a high-end wine bottle that is valued at $100 retail at 9:00 pm. How it works: Ladies will sit and men will rotate! Each potential new couple will have 5 to 7 minutes of 1 on 1 conversation to see if there are chemistry and mental stimulation among each. Your match results will be delivered the next day! Early bird prices are limited and will raise without notice. This private curated event is sponsored by MAMALI NYC & NYC BRIGHTEST! \nWhat to expect: \n\nUnlimited delicious wine pours for ladies from 6:30 to 8:00 pm!\nA young beautiful crowd in their 20’s & 30’S age range.\nA optional afterparty with additional singles complimentary raffle for a $100 bottle of wine at 9 pm.\nDelicious food for purchase.\nFor men there is a 1 item $15 dollar minimum spend required at the venue.\nAmazing ambiance\, customer service and product!\nIf you are an essential worker\, please enter the promo code “wineanddate” for $ 2 off admission.\n\nAbout NYC BRIGHTEST: we implement private curated events such as wine/spirit tastings\, speed dating’s\, game nights\, singles/socials and networking in cool and chic venues\, please navigate below to… \nhttp://nycbrightest.com\, \nNYC BRIGHTEST SINGLES/SOCIAL CONNECTIONS \nUNIQUE SPEED DATING EVENTS! \nWine And Spirit Tastings by NYC Brightest! and follow NYC_Brightest on Instagram!
URL:https://nycbrightest.com/event/20s-30s-vine-affair-speed-dating/
LOCATION:MAMALI NYC\, 70 CHRISTOPHER STREET\, MANHATTAN\, NY\, 10014\, United States
ATTACH;FMTTYPE=image/jpeg:https://nycbrightest.com/wp-content/uploads/2026/04/wine-speed-dating-1.jpg
END:VEVENT
BEGIN:VEVENT
DTSTART;TZID=America/New_York:20260429T190000
DTEND;TZID=America/New_York:20260429T220000
DTSTAMP:20260423T165841
CREATED:20260415T014614Z
LAST-MODIFIED:20260415T015045Z
UID:10003612-1777489200-1777500000@nycbrightest.com
SUMMARY:"A VINE AFFAIR" EXCLUSIVE SINGLES EVENT!
DESCRIPTION:Join us for exclusive “Vine Affair” event for N.Y.C. Singles in their 20’S and 30’S at MAMALI NYC! ALL LADIES WILL RECEIVE UNLIMITED POURS OF EXQUISITE WINES FROM 7 to 8:30 pm. There will be a complimentary raffle including both ladies and gentlemen for a high-end wine bottle that is valued at $100 retail at 9:00 pm. “Mamali” a charming new cafe opening a few months ago\, is Georgian based with a weekly rotating exquisite wine list from all nations around the world. The food is fresh and delicious and has received a 4 and a half stars for customer service\, ambiance\, and product. There are only 25 spots available for this intimate experience as the general public will not be allowed. Early bird prices are limited and will raise without notice. This private curated event is sponsored by MAMALI NYC & NYC BRIGHTEST! \nWhat to expect: \n\nUnlimited delicious wine pours for ladies from 7 to 8:30 pm!\nA young beautiful crowd in their 20’s & 30’S age range.\nA complimentary raffle for a $100 bottle of wine at 9 pm.\nDelicious food for purchase.\nFor men there is a 1 item $15 dollar minimum spend required at the venue.\nAmazing ambiance\, customer service and product!\nIf you are an essential worker\, please enter the promo code “mamali” for $off admission.\n\nAbout NYC BRIGHTEST: we implement private curated events such as wine/spirit tastings\, speed dating’s\, game nights\, singles/socials and networking in cool and chic venues\, please navigate below to… \nhttp://nycbrightest.com\, \nNYC BRIGHTEST SINGLES/SOCIAL CONNECTIONS \nUNIQUE SPEED DATING EVENTS! \nWine And Spirit Tastings by NYC Brightest! and follow NYC_Brightest on Instagram!
URL:https://nycbrightest.com/event/a-vine-affair-exclusive-singles-event/
LOCATION:MAMALI NYC\, 70 CHRISTOPHER STREET\, MANHATTAN\, NY\, 10014\, United States
ATTACH;FMTTYPE=image/png:https://nycbrightest.com/wp-content/uploads/2026/04/vine-affair-singles-night.png
END:VEVENT
END:VCALENDAR